BEGIN:VCALENDAR
VERSION:2.0
PRODID:-//Ubiquitous Pharmacogenomics (U-PGx) - ECPv6.15.20//NONSGML v1.0//EN
CALSCALE:GREGORIAN
METHOD:PUBLISH
X-ORIGINAL-URL:https://upgx.eu
X-WR-CALDESC:Events for Ubiquitous Pharmacogenomics (U-PGx)
REFRESH-INTERVAL;VALUE=DURATION:PT1H
X-Robots-Tag:noindex
X-PUBLISHED-TTL:PT1H
BEGIN:VTIMEZONE
TZID:UTC
BEGIN:STANDARD
TZOFFSETFROM:+0000
TZOFFSETTO:+0000
TZNAME:UTC
DTSTART:20150101T000000
END:STANDARD
END:VTIMEZONE
BEGIN:VEVENT
DTSTART;VALUE=DATE:20170820
DTEND;VALUE=DATE:20170825
DTSTAMP:20260424T180040
CREATED:20170704T151230Z
LAST-MODIFIED:20170704T151230Z
UID:1317-1503187200-1503619199@upgx.eu
SUMMARY:Leena Peltonen School of Human Genomics
DESCRIPTION:Human Genetics
URL:https://upgx.eu/event/leena-peltonen-school-of-human-genomics/
LOCATION:Hinxton Cambridge UK\, Hinxton\, Cambridge\, United Kingdom
CATEGORIES:Genomics
END:VEVENT
BEGIN:VEVENT
DTSTART;VALUE=DATE:20170805
DTEND;VALUE=DATE:20170809
DTSTAMP:20260424T180040
CREATED:20170526T095940Z
LAST-MODIFIED:20170526T100703Z
UID:1266-1501891200-1502236799@upgx.eu
SUMMARY:Hum. Gen. Soc. of Australasia 41st Annual Scientific Meeting
DESCRIPTION:Human Genetics
URL:https://upgx.eu/event/hum-gen-soc-of-australasia-41st-annual-scientific-meeting/
LOCATION:Brisbane QLD Australia\, Brisbane QLD \, Australia
CATEGORIES:Genomics
END:VEVENT
BEGIN:VEVENT
DTSTART;VALUE=DATE:20170716
DTEND;VALUE=DATE:20170721
DTSTAMP:20260424T180040
CREATED:20170526T095940Z
LAST-MODIFIED:20170526T100546Z
UID:1265-1500163200-1500595199@upgx.eu
SUMMARY:Alzheimer’s Association International Conference
DESCRIPTION:Genomic Medicine
URL:https://upgx.eu/event/alzheimers-association-international-conference/
LOCATION:London UK\, London\, United Kingdom
CATEGORIES:Genomics
END:VEVENT
BEGIN:VEVENT
DTSTART;VALUE=DATE:20170701
DTEND;VALUE=DATE:20170705
DTSTAMP:20260424T180040
CREATED:20161106T195603Z
LAST-MODIFIED:20161106T201218Z
UID:832-1498867200-1499212799@upgx.eu
SUMMARY:11th European Cytogenetics Conference 2017
DESCRIPTION:Cytogenetics
URL:https://upgx.eu/event/11th-european-cytogenetics-conference-2017/
LOCATION:Florence\, Italy\, Italy
CATEGORIES:Pharmacogenomics and Genomic Medicine
END:VEVENT
BEGIN:VEVENT
DTSTART;VALUE=DATE:20170615
DTEND;VALUE=DATE:20170617
DTSTAMP:20260424T180040
CREATED:20170215T153946Z
LAST-MODIFIED:20170215T154600Z
UID:968-1497484800-1497657599@upgx.eu
SUMMARY:Genomics and Pharmacogenomics
DESCRIPTION:Genomic Medicine
URL:https://upgx.eu/event/genomics-and-pharmacogenomics/
LOCATION:London UK\, London\, United Kingdom
CATEGORIES:Genomics
END:VEVENT
BEGIN:VEVENT
DTSTART;VALUE=DATE:20170612
DTEND;VALUE=DATE:20170614
DTSTAMP:20260424T180040
CREATED:20170526T095940Z
LAST-MODIFIED:20170526T100507Z
UID:1264-1497225600-1497398399@upgx.eu
SUMMARY:Translational Bioinformatics
DESCRIPTION:Bioinformatics and Computational Biology
URL:https://upgx.eu/event/translational-bioinformatics/
LOCATION:Hinxton Cambridge UK\, Hinxton\, Cambridge\, United Kingdom
CATEGORIES:Bioinformatics
END:VEVENT
BEGIN:VEVENT
DTSTART;VALUE=DATE:20170605
DTEND;VALUE=DATE:20170609
DTSTAMP:20260424T180040
CREATED:20170526T095940Z
LAST-MODIFIED:20170526T100235Z
UID:1263-1496620800-1496966399@upgx.eu
SUMMARY:14th International Symposium on Variants in the Genome
DESCRIPTION:Human Genetics
URL:https://upgx.eu/event/14th-international-symposium-on-variants-in-the-genome/
LOCATION:Santiago de Compostelo Spain\, Santiago de Compostelo\, Spain
CATEGORIES:Human Genetics
END:VEVENT
BEGIN:VEVENT
DTSTART;VALUE=DATE:20170527
DTEND;VALUE=DATE:20170531
DTSTAMP:20260424T180040
CREATED:20161106T195603Z
LAST-MODIFIED:20161106T200803Z
UID:831-1495843200-1496188799@upgx.eu
SUMMARY:European Human Genetics Conference
DESCRIPTION:Human Genetics
URL:https://upgx.eu/event/european-human-genetics-conference/
CATEGORIES:Pharmacogenomics and Genomic Medicine
END:VEVENT
BEGIN:VEVENT
DTSTART;VALUE=DATE:20170527
DTEND;VALUE=DATE:20170529
DTSTAMP:20260424T180040
CREATED:20170215T153946Z
LAST-MODIFIED:20170215T154503Z
UID:967-1495843200-1496015999@upgx.eu
SUMMARY:7th International Workshop on the History of Human Genetics
DESCRIPTION:Human Genetics
URL:https://upgx.eu/event/7th-international-workshop-on-the-history-of-human-genetics/
LOCATION:Copenhagen Denmark\, Copenhagen\, Denmark
CATEGORIES:Genomics
END:VEVENT
BEGIN:VEVENT
DTSTART;VALUE=DATE:20170512
DTEND;VALUE=DATE:20170513
DTSTAMP:20260424T180040
CREATED:20170215T153945Z
LAST-MODIFIED:20170215T154334Z
UID:966-1494547200-1494633599@upgx.eu
SUMMARY:2nd U-PGx Personised Medicine Day
DESCRIPTION:Genomic Medicine
URL:https://upgx.eu/event/2nd-u-pgx-personised-medicine-day/
LOCATION:Vienna Austria\, Vienna\, Austria
CATEGORIES:Genomics
END:VEVENT
BEGIN:VEVENT
DTSTART;VALUE=DATE:20170405
DTEND;VALUE=DATE:20170408
DTSTAMP:20260424T180040
CREATED:20170215T153945Z
LAST-MODIFIED:20170215T154223Z
UID:965-1491350400-1491609599@upgx.eu
SUMMARY:Genomics of Rare Disease 2017
DESCRIPTION:Genomic Medicine
URL:https://upgx.eu/event/genomics-of-rare-disease-2017/
LOCATION:Cambridge UK\, Cambridge\, United Kingdom
CATEGORIES:Genomics
END:VEVENT
BEGIN:VEVENT
DTSTART;VALUE=DATE:20170403
DTEND;VALUE=DATE:20170408
DTSTAMP:20260424T180040
CREATED:20161106T195603Z
LAST-MODIFIED:20161106T200601Z
UID:830-1491177600-1491609599@upgx.eu
SUMMARY:15th World Congress on Public Health
DESCRIPTION:Public Health
URL:https://upgx.eu/event/15th-world-congress-on-public-health/
LOCATION:Melbourne\, Australia\, Australia
CATEGORIES:Public Health
END:VEVENT
BEGIN:VEVENT
DTSTART;TZID=UTC:20170323T000000
DTEND;TZID=UTC:20170325T000000
DTSTAMP:20260424T180040
CREATED:20160918T145828Z
LAST-MODIFIED:20160918T150034Z
UID:736-1490227200-1490400000@upgx.eu
SUMMARY:5th International Conference and Exhibition on Pharmacology and Ethnopharmacology
DESCRIPTION:Pharmacogenomics and ethnopharmacology
URL:https://upgx.eu/event/5th-international-conference-and-exhibition-on-pharmacology-and-ethnopharmacology/
LOCATION:Orlando United States\, Orlando\, United States
CATEGORIES:Public health genomics
END:VEVENT
BEGIN:VEVENT
DTSTART;VALUE=DATE:20170321
DTEND;VALUE=DATE:20170326
DTSTAMP:20260424T180040
CREATED:20161106T195603Z
LAST-MODIFIED:20161106T200336Z
UID:829-1490054400-1490486399@upgx.eu
SUMMARY:ACMG Annual Clinical Genetics Meeting
DESCRIPTION:Clinical Genetics
URL:https://upgx.eu/event/acmg-annual-clinical-genetics-meeting/
LOCATION:Phoenix United States\, Phoenix\, United States
CATEGORIES:Pharmacogenomics and Genomic Medicine
END:VEVENT
BEGIN:VEVENT
DTSTART;TZID=UTC:20170314T000000
DTEND;TZID=UTC:20170316T000000
DTSTAMP:20260424T180040
CREATED:20160918T145828Z
LAST-MODIFIED:20160918T150251Z
UID:735-1489449600-1489622400@upgx.eu
SUMMARY:2nd Innate Immune Memory conference
DESCRIPTION:Immunoepigenomics
URL:https://upgx.eu/event/2nd-innate-immune-memory-conference/
LOCATION:Wellcome Genome Campus\, Hinxton\, UK\, Hinxton\, United Kingdom
CATEGORIES:Pharmacogenomics and Genomic Medicine
END:VEVENT
BEGIN:VEVENT
DTSTART;TZID=UTC:20170313T000000
DTEND;TZID=UTC:20170315T000000
DTSTAMP:20260424T180040
CREATED:20160918T145828Z
LAST-MODIFIED:20160918T150420Z
UID:734-1489363200-1489536000@upgx.eu
SUMMARY:10th International Conference and Exhibition on Pharmaceutics & Novel Drug Delivery Systems
DESCRIPTION:Pharmacogenomics and Genomic Medicine
URL:https://upgx.eu/event/10th-international-conference-and-exhibition-on-pharmaceutics-novel-drug-delivery-systems/
LOCATION:London UK\, London\, United Kingdom
CATEGORIES:Pharmacogenomics and Genomic Medicine
END:VEVENT
BEGIN:VEVENT
DTSTART;TZID=UTC:20170312T000000
DTEND;TZID=UTC:20170324T000000
DTSTAMP:20260424T180040
CREATED:20160918T145828Z
LAST-MODIFIED:20160918T151818Z
UID:732-1489276800-1490313600@upgx.eu
SUMMARY:Genetic engineering of mammalian stem cells
DESCRIPTION:Genetic engineering
URL:https://upgx.eu/event/genetic-engineering-of-mammalian-stem-cells/
LOCATION:Wellcome Genome Campus\, Hinxton\, UK\, Hinxton\, United Kingdom
CATEGORIES:Pharmacogenomics and Genomic Medicine
END:VEVENT
BEGIN:VEVENT
DTSTART;TZID=UTC:20170312T000000
DTEND;TZID=UTC:20170317T000000
DTSTAMP:20260424T180040
CREATED:20160918T145828Z
LAST-MODIFIED:20160918T150659Z
UID:733-1489276800-1489708800@upgx.eu
SUMMARY:EMBL Course: Analysis and Integration of Transcriptome and Proteome Data
DESCRIPTION:Transcriptomics-Proteomics analysis
URL:https://upgx.eu/event/embl-course-analysis-and-integration-of-transcriptome-and-proteome-data/
LOCATION:Heidelberg  Germany\, Heidelberg\, Germany
CATEGORIES:Bioinformatics
END:VEVENT
BEGIN:VEVENT
DTSTART;TZID=UTC:20170305T000000
DTEND;TZID=UTC:20170308T000000
DTSTAMP:20260424T180040
CREATED:20160918T145828Z
LAST-MODIFIED:20160918T151030Z
UID:730-1488672000-1488931200@upgx.eu
SUMMARY:Rare and Undiagnosed Diseases: Discovery and Models of Precision Therapy
DESCRIPTION:Precision Medicine
URL:https://upgx.eu/event/rare-and-undiagnosed-diseases-discovery-and-models-of-precision-therapy/
LOCATION:Fairmont Copley Plaza\, Boston\, United States
CATEGORIES:Public health genomics
END:VEVENT
BEGIN:VEVENT
DTSTART;TZID=UTC:20170305T000000
DTEND;TZID=UTC:20170308T000000
DTSTAMP:20260424T180040
CREATED:20160918T145828Z
LAST-MODIFIED:20160918T151229Z
UID:731-1488672000-1488931200@upgx.eu
SUMMARY:mRNA Processing and Human Disease
DESCRIPTION:Disease transcriptomics
URL:https://upgx.eu/event/mrna-processing-and-human-disease/
LOCATION:Sagebrush Inn & Suites\, Taos\, United States
CATEGORIES:Pharmacogenomics and Genomic Medicine
END:VEVENT
BEGIN:VEVENT
DTSTART;VALUE=DATE:20170305
DTEND;VALUE=DATE:20170309
DTSTAMP:20260424T180040
CREATED:20161222T145042Z
LAST-MODIFIED:20161222T145042Z
UID:909-1488672000-1489017599@upgx.eu
SUMMARY:Rare and Undiagnosed Diseases: Discovery and Models of Precision Therapy
DESCRIPTION:Genomic Medicine
URL:https://upgx.eu/event/rare-and-undiagnosed-diseases-discovery-and-models-of-precision-therapy-2/
LOCATION:Boston United States\, Boston\, United States
CATEGORIES:Genomics
END:VEVENT
BEGIN:VEVENT
DTSTART;TZID=UTC:20170302T000000
DTEND;TZID=UTC:20170303T000000
DTSTAMP:20260424T180040
CREATED:20160918T145828Z
LAST-MODIFIED:20160918T151402Z
UID:729-1488412800-1488499200@upgx.eu
SUMMARY:6th International Conference and Exhibition on Cell and gene Therapy 2017
DESCRIPTION:Cell and Gene therapy
URL:https://upgx.eu/event/6th-international-conference-and-exhibition-on-cell-and-gene-therapy-2017/
LOCATION:Default title\, Madrid\, Spain
CATEGORIES:Pharmacogenomics and Genomic Medicine
END:VEVENT
BEGIN:VEVENT
DTSTART;TZID=UTC:20170227T000000
DTEND;TZID=UTC:20170301T000000
DTSTAMP:20260424T180040
CREATED:20160918T145828Z
LAST-MODIFIED:20160918T151912Z
UID:728-1488153600-1488326400@upgx.eu
SUMMARY:World Congress on Pharmaceutical Sciences and Innovations in Pharma Industry
DESCRIPTION:
URL:https://upgx.eu/event/world-congress-on-pharmaceutical-sciences-and-innovations-in-pharma-industry/
LOCATION:Default title\, Amsterdam\, Netherlands
CATEGORIES:Pharmacogenomics and Genomic Medicine
END:VEVENT
BEGIN:VEVENT
DTSTART;VALUE=DATE:20170222
DTEND;VALUE=DATE:20170225
DTSTAMP:20260424T180040
CREATED:20161106T195603Z
LAST-MODIFIED:20161106T200127Z
UID:828-1487721600-1487980799@upgx.eu
SUMMARY:International Conference on Genomic Medicine
DESCRIPTION:Genomic Medicine
URL:https://upgx.eu/event/international-conference-on-genomic-medicine/
LOCATION:Baltimore\, United States\, United States
CATEGORIES:Pharmacogenomics and Genomic Medicine
END:VEVENT
BEGIN:VEVENT
DTSTART;VALUE=DATE:20170208
DTEND;VALUE=DATE:20170210
DTSTAMP:20260424T180040
CREATED:20161106T195603Z
LAST-MODIFIED:20161106T195855Z
UID:827-1486512000-1486684799@upgx.eu
SUMMARY:3rd Internat. Rare Disease Research Consortium Conference
DESCRIPTION:Rare Disease
URL:https://upgx.eu/event/3rd-internat-rare-disease-research-consortium-conference/
LOCATION:Paris France\, Paris\, France
CATEGORIES:Pharmacogenomics and Genomic Medicine
END:VEVENT
BEGIN:VEVENT
DTSTART;VALUE=DATE:20170106
DTEND;VALUE=DATE:20170109
DTSTAMP:20260424T180040
CREATED:20161106T195603Z
LAST-MODIFIED:20161106T201545Z
UID:835-1483660800-1483919999@upgx.eu
SUMMARY:5th International Conference on Bioinformatics and Computational Biology
DESCRIPTION:Bioinformatics and Computational Biology
URL:https://upgx.eu/event/5th-international-conference-on-bioinformatics-and-computational-biology/
LOCATION:Hong Kong China\, Hong Kong\, China
CATEGORIES:Bioinformatics
END:VEVENT
BEGIN:VEVENT
DTSTART;VALUE=DATE:20161215
DTEND;VALUE=DATE:20161219
DTSTAMP:20260424T180040
CREATED:20160623T092418Z
LAST-MODIFIED:20160623T093901Z
UID:586-1481760000-1482105599@upgx.eu
SUMMARY:BIBM 2016 : Bioinformatics and Biomedicine
DESCRIPTION:Bioinformatics and Biomedicine
URL:https://upgx.eu/event/bibm-2016-bioinformatics-and-biomedicine/
LOCATION:Shenzhen China\, Shenzhen\, China
CATEGORIES:Bioinformatics
END:VEVENT
BEGIN:VEVENT
DTSTART;VALUE=DATE:20161208
DTEND;VALUE=DATE:20161211
DTSTAMP:20260424T180040
CREATED:20160623T092418Z
LAST-MODIFIED:20160623T093808Z
UID:585-1481155200-1481414399@upgx.eu
SUMMARY:4th National Conference on Genomics and Public Health
DESCRIPTION:Genomics and Public Health
URL:https://upgx.eu/event/4th-national-conference-on-genomics-and-public-health/
LOCATION:Bethesda  United States\, Bethesda\, United States
CATEGORIES:Public health genomics
END:VEVENT
BEGIN:VEVENT
DTSTART;VALUE=DATE:20161208
DTEND;VALUE=DATE:20161211
DTSTAMP:20260424T180040
CREATED:20160623T092417Z
LAST-MODIFIED:20160623T093618Z
UID:583-1481155200-1481414399@upgx.eu
SUMMARY:14th Annual Rocky Mountain Bioinformatics Conference
DESCRIPTION:Bioinformatics
URL:https://upgx.eu/event/14th-annual-rocky-mountain-bioinformatics-conference/
LOCATION:Westin Hotel Snowmass\, Aspen/Snowmass\, United States
CATEGORIES:Bioinformatics
END:VEVENT
BEGIN:VEVENT
DTSTART;VALUE=DATE:20161208
DTEND;VALUE=DATE:20161210
DTSTAMP:20260424T180040
CREATED:20160623T092418Z
LAST-MODIFIED:20160623T093730Z
UID:584-1481155200-1481327999@upgx.eu
SUMMARY:18th International Conference on Human Genetics and Genomics
DESCRIPTION:18th International Conference on Human Genetics and Genomics
URL:https://upgx.eu/event/18th-international-conference-on-human-genetics-and-genomics/
LOCATION:Hotel NH Roma Villa Carpegna\, Rome\, Italy
CATEGORIES:Public health genomics
END:VEVENT
END:VCALENDAR