BEGIN:VCALENDAR
VERSION:2.0
PRODID:-//Ubiquitous Pharmacogenomics (U-PGx) - ECPv6.15.20//NONSGML v1.0//EN
CALSCALE:GREGORIAN
METHOD:PUBLISH
X-ORIGINAL-URL:https://upgx.eu
X-WR-CALDESC:Events for Ubiquitous Pharmacogenomics (U-PGx)
REFRESH-INTERVAL;VALUE=DURATION:PT1H
X-Robots-Tag:noindex
X-PUBLISHED-TTL:PT1H
BEGIN:VTIMEZONE
TZID:UTC
BEGIN:STANDARD
TZOFFSETFROM:+0000
TZOFFSETTO:+0000
TZNAME:UTC
DTSTART:20160101T000000
END:STANDARD
END:VTIMEZONE
BEGIN:VEVENT
DTSTART;VALUE=DATE:20180418
DTEND;VALUE=DATE:20180421
DTSTAMP:20260426T000208
CREATED:20180326T144117Z
LAST-MODIFIED:20180326T144117Z
UID:1615-1524009600-1524268799@upgx.eu
SUMMARY:European Mathematical Genetics Meeting 2018
DESCRIPTION:Genetics
URL:https://upgx.eu/event/european-mathematical-genetics-meeting-2018/
LOCATION:Cagliari Italy\, Cagliary\, Italy
CATEGORIES:Genetics
END:VEVENT
BEGIN:VEVENT
DTSTART;VALUE=DATE:20180418
DTEND;VALUE=DATE:20180420
DTSTAMP:20260426T000208
CREATED:20180326T142331Z
LAST-MODIFIED:20180326T142331Z
UID:1595-1524009600-1524182399@upgx.eu
SUMMARY:Genomic Medicine 2018 Edinburgh
DESCRIPTION:Genomic Medicine
URL:https://upgx.eu/event/genomic-medicine-2018-edinburgh/
LOCATION:Edinburgh UK\, Edinburgh\, United Kingdom
CATEGORIES:Genomics
END:VEVENT
BEGIN:VEVENT
DTSTART;VALUE=DATE:20180418
DTEND;VALUE=DATE:20180421
DTSTAMP:20260426T000208
CREATED:20180122T103713Z
LAST-MODIFIED:20180122T103713Z
UID:1506-1524009600-1524268799@upgx.eu
SUMMARY:Intern. Conference on Genomics and Personalized Medicine
DESCRIPTION:Personalized Medicine
URL:https://upgx.eu/event/intern-conference-on-genomics-and-personalized-medicine/
LOCATION:Dubai United Arab Emirates\, Dubai\, United Arab Emirates
CATEGORIES:Pharmacogenomics and Genomic Medicine
END:VEVENT
BEGIN:VEVENT
DTSTART;VALUE=DATE:20180417
DTEND;VALUE=DATE:20180419
DTSTAMP:20260426T000208
CREATED:20180326T144006Z
LAST-MODIFIED:20180326T144006Z
UID:1613-1523923200-1524095999@upgx.eu
SUMMARY:Human Genetics & Genetics Disorders
DESCRIPTION:Human Genetics
URL:https://upgx.eu/event/human-genetics-genetics-disorders/
LOCATION:Online Event
CATEGORIES:Genomics
END:VEVENT
BEGIN:VEVENT
DTSTART;VALUE=DATE:20180416
DTEND;VALUE=DATE:20180418
DTSTAMP:20260426T000208
CREATED:20180220T090953Z
LAST-MODIFIED:20180220T093150Z
UID:1538-1523836800-1524009599@upgx.eu
SUMMARY:Exploring Advancements in Human Genetics & their Applications in Genetic Disorders
DESCRIPTION:Human Genetics
URL:https://upgx.eu/event/exploring-advancements-in-human-genetics-their-applications-in-genetic-disorders/
LOCATION:Online Event
CATEGORIES:Genomics
END:VEVENT
BEGIN:VEVENT
DTSTART;VALUE=DATE:20180412
DTEND;VALUE=DATE:20180415
DTSTAMP:20260426T000208
CREATED:20180326T143854Z
LAST-MODIFIED:20180326T143854Z
UID:1611-1523491200-1523750399@upgx.eu
SUMMARY:13th Troina Meeting on Genetics of Neurodevelopmental Disorders
DESCRIPTION:Human Genetics
URL:https://upgx.eu/event/13th-troina-meeting-on-genetics-of-neurodevelopmental-disorders/
LOCATION:Troina Italy\, Troina\, Italy
CATEGORIES:Genomics
END:VEVENT
BEGIN:VEVENT
DTSTART;VALUE=DATE:20180326
DTEND;VALUE=DATE:20180329
DTSTAMP:20260426T000208
CREATED:20171113T113416Z
LAST-MODIFIED:20171113T113416Z
UID:1403-1522022400-1522281599@upgx.eu
SUMMARY:Genomics of Rare Disease
DESCRIPTION:Genomic Medicine
URL:https://upgx.eu/event/genomics-of-rare-disease-2/
LOCATION:Cambridge UK\, Cambridge\, United Kingdom
CATEGORIES:Genomics
END:VEVENT
BEGIN:VEVENT
DTSTART;VALUE=DATE:20180323
DTEND;VALUE=DATE:20180328
DTSTAMP:20260426T000208
CREATED:20180220T092706Z
LAST-MODIFIED:20180220T093348Z
UID:1556-1521763200-1522195199@upgx.eu
SUMMARY:Gene Control in Development and Disease
DESCRIPTION:Human Genetics
URL:https://upgx.eu/event/gene-control-in-development-and-disease/
LOCATION:British Columbia Canada\, British Columbia\, Canada
CATEGORIES:Genomics
END:VEVENT
BEGIN:VEVENT
DTSTART;VALUE=DATE:20180321
DTEND;VALUE=DATE:20180322
DTSTAMP:20260426T000208
CREATED:20171127T161829Z
LAST-MODIFIED:20171127T162453Z
UID:1430-1521590400-1521676799@upgx.eu
SUMMARY:The 5th Annual UK Pharmacogenetics & Stratified Medicine Network Open Meeting
DESCRIPTION:Human Genetics
URL:https://upgx.eu/event/the-5th-annual-uk-pharmacogenetics-stratified-medicine-network-open-meeting/
LOCATION:London UK\, London\, United Kingdom
CATEGORIES:Genomics
END:VEVENT
BEGIN:VEVENT
DTSTART;VALUE=DATE:20180315
DTEND;VALUE=DATE:20180317
DTSTAMP:20260426T000208
CREATED:20180117T161120Z
LAST-MODIFIED:20180117T161120Z
UID:1465-1521072000-1521244799@upgx.eu
SUMMARY:7th International Conference and Exhibition on Cell and Gene Therapy
DESCRIPTION:Gene Therapy
URL:https://upgx.eu/event/7th-international-conference-and-exhibition-on-cell-and-gene-therapy/
LOCATION:London UK\, London\, United Kingdom
CATEGORIES:Genomics
END:VEVENT
BEGIN:VEVENT
DTSTART;VALUE=DATE:20180301
DTEND;VALUE=DATE:20180303
DTSTAMP:20260426T000208
CREATED:20180220T092536Z
LAST-MODIFIED:20180220T092536Z
UID:1554-1519862400-1520035199@upgx.eu
SUMMARY:Future of Genomic Medicine 2018
DESCRIPTION:Genomic Medicine
URL:https://upgx.eu/event/future-of-genomic-medicine-2018/
LOCATION:La Jolla California United States\, La Jolla\, California\, CA\, United States
CATEGORIES:Genomics
END:VEVENT
BEGIN:VEVENT
DTSTART;VALUE=DATE:20180202
DTEND;VALUE=DATE:20180203
DTSTAMP:20260426T000208
CREATED:20180206T180253Z
LAST-MODIFIED:20180206T180716Z
UID:1517-1517529600-1517615999@upgx.eu
SUMMARY:20th Golden Helix Pharmacogenomics Day\, Al Ain UAE
DESCRIPTION:Genomic Medicine
URL:https://upgx.eu/event/20th-golden-helix-pharmacogenomics-day-al-ain-uae/
LOCATION:Al Ain United Arab Emirates\, Al Ain\, United Arab Emirates
CATEGORIES:Genomics
END:VEVENT
BEGIN:VEVENT
DTSTART;VALUE=DATE:20180130
DTEND;VALUE=DATE:20180201
DTSTAMP:20260426T000208
CREATED:20171127T161939Z
LAST-MODIFIED:20171127T161939Z
UID:1432-1517270400-1517443199@upgx.eu
SUMMARY:Festival of Genomics
DESCRIPTION:Genomic Medicine
URL:https://upgx.eu/event/festival-of-genomics/
LOCATION:London UK\, London\, United Kingdom
CATEGORIES:Genomics
END:VEVENT
BEGIN:VEVENT
DTSTART;VALUE=DATE:20180121
DTEND;VALUE=DATE:20180126
DTSTAMP:20260426T000208
CREATED:20171127T162118Z
LAST-MODIFIED:20171130T140644Z
UID:1434-1516492800-1516924799@upgx.eu
SUMMARY:KeyStone Symposia
DESCRIPTION:Genomic Medicine
URL:https://upgx.eu/event/httpwww-keystonesymposia-org18a7/
LOCATION:Vancouver Canada\, Vancouver\, Canada
END:VEVENT
BEGIN:VEVENT
DTSTART;VALUE=DATE:20171218
DTEND;VALUE=DATE:20171220
DTSTAMP:20260426T000208
CREATED:20171113T113253Z
LAST-MODIFIED:20171113T113836Z
UID:1400-1513555200-1513727999@upgx.eu
SUMMARY:19th International Conference on Human Genetics
DESCRIPTION:Human Genetics
URL:https://upgx.eu/event/19th-international-conference-on-human-genetics/
LOCATION:Bangkok Thailand\, Bangkok\, Thailand
CATEGORIES:Genomics
END:VEVENT
BEGIN:VEVENT
DTSTART;VALUE=DATE:20171210
DTEND;VALUE=DATE:20171211
DTSTAMP:20260426T000208
CREATED:20171127T161718Z
LAST-MODIFIED:20171127T161718Z
UID:1428-1512864000-1512950399@upgx.eu
SUMMARY:9th Ann. Next Generation Sequencing & Clinical Diagnostics
DESCRIPTION:Genomic Medicine
URL:https://upgx.eu/event/9th-ann-next-generation-sequencing-clinical-diagnostics/
LOCATION:London UK\, London\, United Kingdom
CATEGORIES:Genomics
END:VEVENT
BEGIN:VEVENT
DTSTART;VALUE=DATE:20171206
DTEND;VALUE=DATE:20171207
DTSTAMP:20260426T000208
CREATED:20170831T170221Z
LAST-MODIFIED:20170831T170221Z
UID:1360-1512518400-1512604799@upgx.eu
SUMMARY:1st UPGx Personalized Medicine Public Day
DESCRIPTION:Genomic Medicine
URL:https://upgx.eu/event/1st-upgx-personalized-medicine-public-day/
LOCATION:London UK\, London\, United Kingdom
CATEGORIES:Genomics
END:VEVENT
BEGIN:VEVENT
DTSTART;VALUE=DATE:20171128
DTEND;VALUE=DATE:20171129
DTSTAMP:20260426T000208
CREATED:20170831T165645Z
LAST-MODIFIED:20170831T165645Z
UID:1353-1511827200-1511913599@upgx.eu
SUMMARY:Genomics of Rare Disease
DESCRIPTION:Genomic Medicine
URL:https://upgx.eu/event/genomics-of-rare-disease/
LOCATION:Cambridge UK\, Cambridge\, United Kingdom
CATEGORIES:Genomics
END:VEVENT
BEGIN:VEVENT
DTSTART;VALUE=DATE:20171117
DTEND;VALUE=DATE:20171118
DTSTAMP:20260426T000208
CREATED:20170831T170043Z
LAST-MODIFIED:20170831T170043Z
UID:1357-1510876800-1510963199@upgx.eu
SUMMARY:3rd UPGx Personalized Medicine Day
DESCRIPTION:Genomic Medicine
URL:https://upgx.eu/event/3rd-upgx-personalized-medicine-day/
LOCATION:Toulouse France\, Toulouse\, France
CATEGORIES:Genomics
END:VEVENT
BEGIN:VEVENT
DTSTART;VALUE=DATE:20171114
DTEND;VALUE=DATE:20171117
DTSTAMP:20260426T000208
CREATED:20161106T195603Z
LAST-MODIFIED:20161106T201420Z
UID:834-1510617600-1510876799@upgx.eu
SUMMARY:Internat. Conference on Genomics and Personalized Medicine
DESCRIPTION:Genomics and Personalized Medicine
URL:https://upgx.eu/event/internat-conference-on-genomics-and-personalized-medicine/
LOCATION:Dubai United Arab Emirates\, Dubai\, United Arab Emirates
CATEGORIES:Pharmacogenomics and Genomic Medicine
END:VEVENT
BEGIN:VEVENT
DTSTART;VALUE=DATE:20171108
DTEND;VALUE=DATE:20171111
DTSTAMP:20260426T000208
CREATED:20161106T195603Z
LAST-MODIFIED:20161106T201317Z
UID:833-1510099200-1510358399@upgx.eu
SUMMARY:International Primary Immunodeficiencies Conference 2017
DESCRIPTION:Primary Immunodeficiencies
URL:https://upgx.eu/event/international-primary-immunodeficiencies-conference-2017/
LOCATION:Dubai United Arab Emirates\, Dubai\, United Arab Emirates
CATEGORIES:Pharmacogenomics and Genomic Medicine
END:VEVENT
BEGIN:VEVENT
DTSTART;VALUE=DATE:20171105
DTEND;VALUE=DATE:20171109
DTSTAMP:20260426T000208
CREATED:20170526T095944Z
LAST-MODIFIED:20170526T101121Z
UID:1269-1509840000-1510185599@upgx.eu
SUMMARY:EMBL Conference Cancer Genomics
DESCRIPTION:Genomic Medicine
URL:https://upgx.eu/event/embl-conference-cancer-genomics/
LOCATION:Heidelberg  Germany\, Heidelberg\, Germany
CATEGORIES:Genomics
END:VEVENT
BEGIN:VEVENT
DTSTART;VALUE=DATE:20171102
DTEND;VALUE=DATE:20171104
DTSTAMP:20260426T000208
CREATED:20161222T145357Z
LAST-MODIFIED:20161222T145454Z
UID:913-1509580800-1509753599@upgx.eu
SUMMARY:2nd World Congress on Human Genetics & Genetic Disorders
DESCRIPTION:Human Genetics
URL:https://upgx.eu/event/2nd-world-congress-on-human-genetics-genetic-disorders/
LOCATION:Toronto\, Toronto\, Canada
CATEGORIES:Genomics
END:VEVENT
BEGIN:VEVENT
DTSTART;VALUE=DATE:20171101
DTEND;VALUE=DATE:20171105
DTSTAMP:20260426T000208
CREATED:20170215T153946Z
LAST-MODIFIED:20170215T154708Z
UID:969-1509494400-1509839999@upgx.eu
SUMMARY:10th European Public Health Conference
DESCRIPTION:Public Health
URL:https://upgx.eu/event/10th-european-public-health-conference/
LOCATION:Stockholm Sweden\, Stockholm\, Sweden
CATEGORIES:Public Health
END:VEVENT
BEGIN:VEVENT
DTSTART;VALUE=DATE:20171017
DTEND;VALUE=DATE:20171022
DTSTAMP:20260426T000208
CREATED:20161222T145214Z
LAST-MODIFIED:20161222T145214Z
UID:911-1508198400-1508630399@upgx.eu
SUMMARY:American Society of Human Genetics Annual Meeting
DESCRIPTION:Human Genetics
URL:https://upgx.eu/event/american-society-of-human-genetics-annual-meeting/
LOCATION:Orlando United States\, Orlando\, United States
CATEGORIES:Genomics
END:VEVENT
BEGIN:VEVENT
DTSTART;VALUE=DATE:20171004
DTEND;VALUE=DATE:20171007
DTSTAMP:20260426T000208
CREATED:20170704T151335Z
LAST-MODIFIED:20170704T151335Z
UID:1319-1507075200-1507334399@upgx.eu
SUMMARY:World Congress on Genetic Counselling
DESCRIPTION:Genomic Medicine
URL:https://upgx.eu/event/world-congress-on-genetic-counselling/
LOCATION:Hinxton Cambridge UK\, Hinxton\, Cambridge\, United Kingdom
CATEGORIES:Genomics
END:VEVENT
BEGIN:VEVENT
DTSTART;VALUE=DATE:20170925
DTEND;VALUE=DATE:20170928
DTSTAMP:20260426T000208
CREATED:20170215T153948Z
LAST-MODIFIED:20170215T154824Z
UID:970-1506297600-1506556799@upgx.eu
SUMMARY:6th Annual World Congress of Molecular Medicine
DESCRIPTION:Genomic Medicine
URL:https://upgx.eu/event/6th-annual-world-congress-of-molecular-medicine/
LOCATION:Xi”an China\, Xi”an\, China
CATEGORIES:Genomics
END:VEVENT
BEGIN:VEVENT
DTSTART;VALUE=DATE:20170925
DTEND;VALUE=DATE:20170928
DTSTAMP:20260426T000208
CREATED:20170704T151124Z
LAST-MODIFIED:20170704T151124Z
UID:1315-1506297600-1506556799@upgx.eu
SUMMARY:6th Annual World Congress of Molecular Medicine
DESCRIPTION:Genomic Medicine
URL:https://upgx.eu/event/6th-annual-world-congress-of-molecular-medicine-2/
LOCATION:Xi”an China\, Xi”an\, China
CATEGORIES:Genomics
END:VEVENT
BEGIN:VEVENT
DTSTART;VALUE=DATE:20170913
DTEND;VALUE=DATE:20170917
DTSTAMP:20260426T000208
CREATED:20170526T095944Z
LAST-MODIFIED:20170526T100938Z
UID:1268-1505260800-1505606399@upgx.eu
SUMMARY:EMBO|EBML Symposium The Non-Coding Genome
DESCRIPTION:Human Genetics
URL:https://upgx.eu/event/emboebml-symposium-the-non-coding-genome/
LOCATION:Heidelberg  Germany\, Heidelberg\, Germany
CATEGORIES:Genomics
END:VEVENT
BEGIN:VEVENT
DTSTART;VALUE=DATE:20170906
DTEND;VALUE=DATE:20170910
DTSTAMP:20260426T000208
CREATED:20170526T095941Z
LAST-MODIFIED:20170526T100816Z
UID:1267-1504656000-1505001599@upgx.eu
SUMMARY:EMBO Conference: Protein Synthesis & Translational Control
DESCRIPTION:Human Genetics
URL:https://upgx.eu/event/embo-conference-protein-synthesis-translational-control/
LOCATION:Heidelberg  Germany\, Heidelberg\, Germany
CATEGORIES:Genomics
END:VEVENT
END:VCALENDAR