BEGIN:VCALENDAR
VERSION:2.0
PRODID:-//Ubiquitous Pharmacogenomics (U-PGx) - ECPv6.15.20//NONSGML v1.0//EN
CALSCALE:GREGORIAN
METHOD:PUBLISH
X-ORIGINAL-URL:https://upgx.eu
X-WR-CALDESC:Events for Ubiquitous Pharmacogenomics (U-PGx)
REFRESH-INTERVAL;VALUE=DURATION:PT1H
X-Robots-Tag:noindex
X-PUBLISHED-TTL:PT1H
BEGIN:VTIMEZONE
TZID:UTC
BEGIN:STANDARD
TZOFFSETFROM:+0000
TZOFFSETTO:+0000
TZNAME:UTC
DTSTART:20170101T000000
END:STANDARD
END:VTIMEZONE
BEGIN:VEVENT
DTSTART;VALUE=DATE:20191213
DTEND;VALUE=DATE:20191214
DTSTAMP:20260425T180246
CREATED:20190625T170350Z
LAST-MODIFIED:20190625T170350Z
UID:2324-1576195200-1576281599@upgx.eu
SUMMARY:6th U-PGx Personalised Medicine Day\, Athens\, Greece
DESCRIPTION:Personalised Medicine
URL:https://upgx.eu/event/6th-u-pgx-personalised-medicine-day-athens-greece/
LOCATION:Athens Greece\, Athens\, Greece
CATEGORIES:Pharmacogenomics
END:VEVENT
BEGIN:VEVENT
DTSTART;TZID=UTC:20190926T100000
DTEND;TZID=UTC:20190926T180000
DTSTAMP:20260425T180246
CREATED:20190625T170058Z
LAST-MODIFIED:20190625T170058Z
UID:2321-1569492000-1569520800@upgx.eu
SUMMARY:3rd U-PGx Personalized Medicine Public Day\, Patras\, Greece
DESCRIPTION:Pharmacogenomics and Personalized Medicine
URL:https://upgx.eu/event/3rd-u-pgx-personalized-medicine-public-day-patras-greece/
LOCATION:Patras Greece\, Agora Argyri\, Patras\, Greece
CATEGORIES:Pharmacogenomics
END:VEVENT
BEGIN:VEVENT
DTSTART;VALUE=DATE:20180619
DTEND;VALUE=DATE:20180620
DTSTAMP:20260425T180246
CREATED:20180326T144323Z
LAST-MODIFIED:20180326T144323Z
UID:1617-1529366400-1529452799@upgx.eu
SUMMARY:Resourse Allocation in Personal Medicine: Evaluation\, Translation & Ethics
DESCRIPTION:Personalized Medicine
URL:https://upgx.eu/event/resourse-allocation-in-personal-medicine-evaluation-translation-ethics/
LOCATION:Oxford UK\, Oxford\, UK
CATEGORIES:Pharmacogenomics
END:VEVENT
END:VCALENDAR