BEGIN:VCALENDAR
VERSION:2.0
PRODID:-//Ubiquitous Pharmacogenomics (U-PGx) - ECPv6.15.20//NONSGML v1.0//EN
CALSCALE:GREGORIAN
METHOD:PUBLISH
X-ORIGINAL-URL:https://upgx.eu
X-WR-CALDESC:Events for Ubiquitous Pharmacogenomics (U-PGx)
REFRESH-INTERVAL;VALUE=DURATION:PT1H
X-Robots-Tag:noindex
X-PUBLISHED-TTL:PT1H
BEGIN:VTIMEZONE
TZID:UTC
BEGIN:STANDARD
TZOFFSETFROM:+0000
TZOFFSETTO:+0000
TZNAME:UTC
DTSTART:20160101T000000
END:STANDARD
END:VTIMEZONE
BEGIN:VEVENT
DTSTART;VALUE=DATE:20201027
DTEND;VALUE=DATE:20201101
DTSTAMP:20260421T180312
CREATED:20191007T103445Z
LAST-MODIFIED:20191007T103445Z
UID:2412-1603756800-1604188799@upgx.eu
SUMMARY:Annual Meeting - American Society of Human Genetics ASHG 2020
DESCRIPTION:Human Genetics
URL:https://upgx.eu/event/annual-meeting-american-society-of-human-genetics-ashg-2020/
LOCATION:San Diego United States\, San Diego\, United States
CATEGORIES:Human Genetics
END:VEVENT
BEGIN:VEVENT
DTSTART;VALUE=DATE:20200606
DTEND;VALUE=DATE:20200610
DTSTAMP:20260421T180312
CREATED:20191007T102916Z
LAST-MODIFIED:20191007T102916Z
UID:2404-1591401600-1591747199@upgx.eu
SUMMARY:The European Human Genetics Conference 2020
DESCRIPTION:Genetics
URL:https://upgx.eu/event/the-european-human-genetics-conference-2020/
LOCATION:Berlin Germany\, Berlin\, Germany
CATEGORIES:Human Genetics
END:VEVENT
BEGIN:VEVENT
DTSTART;VALUE=DATE:20170605
DTEND;VALUE=DATE:20170609
DTSTAMP:20260421T180312
CREATED:20170526T095940Z
LAST-MODIFIED:20170526T100235Z
UID:1263-1496620800-1496966399@upgx.eu
SUMMARY:14th International Symposium on Variants in the Genome
DESCRIPTION:Human Genetics
URL:https://upgx.eu/event/14th-international-symposium-on-variants-in-the-genome/
LOCATION:Santiago de Compostelo Spain\, Santiago de Compostelo\, Spain
CATEGORIES:Human Genetics
END:VEVENT
END:VCALENDAR