BEGIN:VCALENDAR
VERSION:2.0
PRODID:-//Ubiquitous Pharmacogenomics (U-PGx) - ECPv6.15.20//NONSGML v1.0//EN
CALSCALE:GREGORIAN
METHOD:PUBLISH
X-WR-CALNAME:Ubiquitous Pharmacogenomics (U-PGx)
X-ORIGINAL-URL:https://upgx.eu
X-WR-CALDESC:Events for Ubiquitous Pharmacogenomics (U-PGx)
REFRESH-INTERVAL;VALUE=DURATION:PT1H
X-Robots-Tag:noindex
X-PUBLISHED-TTL:PT1H
BEGIN:VTIMEZONE
TZID:UTC
BEGIN:STANDARD
TZOFFSETFROM:+0000
TZOFFSETTO:+0000
TZNAME:UTC
DTSTART:20160101T000000
END:STANDARD
END:VTIMEZONE
BEGIN:VEVENT
DTSTART;VALUE=DATE:20180924
DTEND;VALUE=DATE:20180926
DTSTAMP:20260425T165848
CREATED:20180117T161659Z
LAST-MODIFIED:20180117T161659Z
UID:1471-1537747200-1537919999@upgx.eu
SUMMARY:5th World Congress on HUMAN GENETICS
DESCRIPTION:Human Genetics
URL:https://upgx.eu/event/5th-world-congress-on-human-genetics/
LOCATION:Berlin Germany\, Berlin\, Germany
CATEGORIES:Genomics
END:VEVENT
BEGIN:VEVENT
DTSTART;VALUE=DATE:20180921
DTEND;VALUE=DATE:20180923
DTSTAMP:20260425T165848
CREATED:20180117T162008Z
LAST-MODIFIED:20180117T162008Z
UID:1475-1537488000-1537660799@upgx.eu
SUMMARY:11th International Conference on Genomics and Pharmacogenomics
DESCRIPTION:Genomic Medicine
URL:https://upgx.eu/event/11th-international-conference-on-genomics-and-pharmacogenomics/
LOCATION:Philadelphia  United States\, Philadelphia \, United States
CATEGORIES:Genomics
END:VEVENT
BEGIN:VEVENT
DTSTART;VALUE=DATE:20180807
DTEND;VALUE=DATE:20180808
DTSTAMP:20260425T165848
CREATED:20180626T084708Z
LAST-MODIFIED:20180626T085405Z
UID:1711-1533600000-1533686399@upgx.eu
SUMMARY:21st Golden Helix Pharmacogenomics Day\, Singapore
DESCRIPTION:Genomic Medicine
URL:https://upgx.eu/event/21st-golden-helix-pharmacogenomics-day-singapore/
LOCATION:Singapore Singapore\, Singapore\, Singapore
CATEGORIES:Genomics
END:VEVENT
BEGIN:VEVENT
DTSTART;VALUE=DATE:20180804
DTEND;VALUE=DATE:20180808
DTSTAMP:20260425T165848
CREATED:20180122T103454Z
LAST-MODIFIED:20180122T103454Z
UID:1502-1533340800-1533686399@upgx.eu
SUMMARY:Human Genetics Society of Australasia Annual Meeting
DESCRIPTION:Human Genetics
URL:https://upgx.eu/event/human-genetics-society-of-australasia-annual-meeting/
LOCATION:Sydney Australia\, Sydney\, Australia
CATEGORIES:Genomics
END:VEVENT
BEGIN:VEVENT
DTSTART;VALUE=DATE:20180625
DTEND;VALUE=DATE:20180628
DTSTAMP:20260425T165848
CREATED:20180117T162234Z
LAST-MODIFIED:20180117T162234Z
UID:1479-1529884800-1530143999@upgx.eu
SUMMARY:Personalized and Precision Medicine International Conference
DESCRIPTION:Personalized Medicine
URL:https://upgx.eu/event/personalized-and-precision-medicine-international-conference/
LOCATION:Paris France\, Paris\, France
CATEGORIES:Genomics
END:VEVENT
BEGIN:VEVENT
DTSTART;VALUE=DATE:20180618
DTEND;VALUE=DATE:20180621
DTSTAMP:20260425T165848
CREATED:20180220T092945Z
LAST-MODIFIED:20180220T092945Z
UID:1562-1529280000-1529539199@upgx.eu
SUMMARY:Virus Genomics and Evolution
DESCRIPTION:Genomic Medicine
URL:https://upgx.eu/event/virus-genomics-and-evolution/
LOCATION:Hinxton Cambridge UK\, Hinxton\, Cambridge\, United Kingdom
CATEGORIES:Genomics
END:VEVENT
BEGIN:VEVENT
DTSTART;VALUE=DATE:20180618
DTEND;VALUE=DATE:20180619
DTSTAMP:20260425T165848
CREATED:20180206T180254Z
LAST-MODIFIED:20180206T181054Z
UID:1519-1529280000-1529366399@upgx.eu
SUMMARY:4th UPGx Personalized Medicine Day\, Stockholm\, Sweden
DESCRIPTION:Genomic Medicine
URL:https://upgx.eu/event/4th-upgx-personalized-medicine-day-stockholm-sweden/
LOCATION:Stockholm Sweden\, Stockholm\, Sweden
CATEGORIES:Genomics
END:VEVENT
BEGIN:VEVENT
DTSTART;VALUE=DATE:20180616
DTEND;VALUE=DATE:20180620
DTSTAMP:20260425T165848
CREATED:20180122T103343Z
LAST-MODIFIED:20180122T103343Z
UID:1500-1529107200-1529452799@upgx.eu
SUMMARY:51st European Human Genetic Conference
DESCRIPTION:Human Genetics
URL:https://upgx.eu/event/51st-european-human-genetic-conference/
LOCATION:Milan Italy\, Milan\, Italy
CATEGORIES:Genomics
END:VEVENT
BEGIN:VEVENT
DTSTART;VALUE=DATE:20180611
DTEND;VALUE=DATE:20180614
DTSTAMP:20260425T165848
CREATED:20180220T092850Z
LAST-MODIFIED:20180220T092850Z
UID:1560-1528675200-1528934399@upgx.eu
SUMMARY:Genomic Epidemiology of Malaria
DESCRIPTION:Genomic Medicine
URL:https://upgx.eu/event/genomic-epidemiology-of-malaria/
LOCATION:Hinxton Cambridge UK\, Hinxton\, Cambridge\, United Kingdom
CATEGORIES:Genomics
END:VEVENT
BEGIN:VEVENT
DTSTART;VALUE=DATE:20180610
DTEND;VALUE=DATE:20180614
DTSTAMP:20260425T165848
CREATED:20180326T143533Z
LAST-MODIFIED:20180326T143533Z
UID:1607-1528588800-1528934399@upgx.eu
SUMMARY:Canadian College of Medical Geneticists Annual Conference
DESCRIPTION:Human Genetics
URL:https://upgx.eu/event/canadian-college-of-medical-geneticists-annual-conference/
LOCATION:British Columbia Canada\, British Columbia\, Canada
CATEGORIES:Genomics
END:VEVENT
BEGIN:VEVENT
DTSTART;VALUE=DATE:20180610
DTEND;VALUE=DATE:20180616
DTSTAMP:20260425T165848
CREATED:20180326T142829Z
LAST-MODIFIED:20180326T142829Z
UID:1599-1528588800-1529107199@upgx.eu
SUMMARY:Human Genetic Variation and Disease
DESCRIPTION:Human Genetics
URL:https://upgx.eu/event/human-genetic-variation-and-disease/
LOCATION:Biddeford United States\, Biddeford\, ME\, United States
CATEGORIES:Genomics
END:VEVENT
BEGIN:VEVENT
DTSTART;VALUE=DATE:20180604
DTEND;VALUE=DATE:20180609
DTSTAMP:20260425T165848
CREATED:20180220T092759Z
LAST-MODIFIED:20180220T092759Z
UID:1558-1528070400-1528502399@upgx.eu
SUMMARY:One Million Genomes: From Discovery to Health
DESCRIPTION:Human Genetics
URL:https://upgx.eu/event/one-million-genomes-from-discovery-to-health/
LOCATION:Hannover Germany\, Hannover\, Germany
CATEGORIES:Genomics
END:VEVENT
BEGIN:VEVENT
DTSTART;VALUE=DATE:20180524
DTEND;VALUE=DATE:20180526
DTSTAMP:20260425T165848
CREATED:20180206T180254Z
LAST-MODIFIED:20180206T181425Z
UID:1521-1527120000-1527292799@upgx.eu
SUMMARY:2nd International Conference on Cancer Genetics and Epigenetics
DESCRIPTION:Human Genetics
URL:https://upgx.eu/event/2nd-international-conference-on-cancer-genetics-and-epigenetics/
LOCATION:Tokyo Japan\, Tokyo\, Japan
CATEGORIES:Genomics
END:VEVENT
BEGIN:VEVENT
DTSTART;VALUE=DATE:20180523
DTEND;VALUE=DATE:20180526
DTSTAMP:20260425T165848
CREATED:20180220T092440Z
LAST-MODIFIED:20180220T092440Z
UID:1552-1527033600-1527292799@upgx.eu
SUMMARY:Curating the Clinical Genome Meeting 2018
DESCRIPTION:Clinical Genome
URL:https://upgx.eu/event/curating-the-clinical-genome-meeting-2018/
LOCATION:Hinxton Cambridge UK\, Hinxton\, Cambridge\, United Kingdom
CATEGORIES:Genomics
END:VEVENT
BEGIN:VEVENT
DTSTART;VALUE=DATE:20180521
DTEND;VALUE=DATE:20180524
DTSTAMP:20260425T165848
CREATED:20180117T161420Z
LAST-MODIFIED:20180117T161420Z
UID:1469-1526860800-1527119999@upgx.eu
SUMMARY:10th International Conference on Genomics and Molecular Biology
DESCRIPTION:Genomic Medicine
URL:https://upgx.eu/event/10th-international-conference-on-genomics-and-molecular-biology/
LOCATION:Barcelona Spain\, Barcelona\, Spain
CATEGORIES:Genomics
END:VEVENT
BEGIN:VEVENT
DTSTART;VALUE=DATE:20180520
DTEND;VALUE=DATE:20180526
DTSTAMP:20260425T165848
CREATED:20180326T143409Z
LAST-MODIFIED:20180326T143409Z
UID:1605-1526774400-1527292799@upgx.eu
SUMMARY:Genetics\, Genomics and Evolution of the Eye
DESCRIPTION:Human Genetics
URL:https://upgx.eu/event/genetics-genomics-and-evolution-of-the-eye/
LOCATION:Barga Italy\, Barga\, Italy
CATEGORIES:Genomics
END:VEVENT
BEGIN:VEVENT
DTSTART;VALUE=DATE:20180423
DTEND;VALUE=DATE:20180426
DTSTAMP:20260425T165848
CREATED:20180122T102939Z
LAST-MODIFIED:20180122T104118Z
UID:1494-1524441600-1524700799@upgx.eu
SUMMARY:Genomics of Brain Disorders
DESCRIPTION:Genomic Medicine
URL:https://upgx.eu/event/genomics-of-brain-disorders/
LOCATION:Hinxton Cambridge UK\, Hinxton\, Cambridge\, United Kingdom
CATEGORIES:Genomics
END:VEVENT
BEGIN:VEVENT
DTSTART;VALUE=DATE:20180419
DTEND;VALUE=DATE:20180421
DTSTAMP:20260425T165848
CREATED:20180117T161249Z
LAST-MODIFIED:20180117T161249Z
UID:1467-1524096000-1524268799@upgx.eu
SUMMARY:4th World Congress on Human Genetics and Genetic Diseases
DESCRIPTION:Human Genetics
URL:https://upgx.eu/event/4th-world-congress-on-human-genetics-and-genetic-diseases/
LOCATION:Dubai United Arab Emirates\, Dubai\, United Arab Emirates
CATEGORIES:Genomics
END:VEVENT
BEGIN:VEVENT
DTSTART;VALUE=DATE:20180418
DTEND;VALUE=DATE:20180420
DTSTAMP:20260425T165848
CREATED:20180326T142331Z
LAST-MODIFIED:20180326T142331Z
UID:1595-1524009600-1524182399@upgx.eu
SUMMARY:Genomic Medicine 2018 Edinburgh
DESCRIPTION:Genomic Medicine
URL:https://upgx.eu/event/genomic-medicine-2018-edinburgh/
LOCATION:Edinburgh UK\, Edinburgh\, United Kingdom
CATEGORIES:Genomics
END:VEVENT
BEGIN:VEVENT
DTSTART;VALUE=DATE:20180417
DTEND;VALUE=DATE:20180419
DTSTAMP:20260425T165848
CREATED:20180326T144006Z
LAST-MODIFIED:20180326T144006Z
UID:1613-1523923200-1524095999@upgx.eu
SUMMARY:Human Genetics & Genetics Disorders
DESCRIPTION:Human Genetics
URL:https://upgx.eu/event/human-genetics-genetics-disorders/
LOCATION:Online Event
CATEGORIES:Genomics
END:VEVENT
BEGIN:VEVENT
DTSTART;VALUE=DATE:20180416
DTEND;VALUE=DATE:20180418
DTSTAMP:20260425T165848
CREATED:20180220T090953Z
LAST-MODIFIED:20180220T093150Z
UID:1538-1523836800-1524009599@upgx.eu
SUMMARY:Exploring Advancements in Human Genetics & their Applications in Genetic Disorders
DESCRIPTION:Human Genetics
URL:https://upgx.eu/event/exploring-advancements-in-human-genetics-their-applications-in-genetic-disorders/
LOCATION:Online Event
CATEGORIES:Genomics
END:VEVENT
BEGIN:VEVENT
DTSTART;VALUE=DATE:20180412
DTEND;VALUE=DATE:20180415
DTSTAMP:20260425T165848
CREATED:20180326T143854Z
LAST-MODIFIED:20180326T143854Z
UID:1611-1523491200-1523750399@upgx.eu
SUMMARY:13th Troina Meeting on Genetics of Neurodevelopmental Disorders
DESCRIPTION:Human Genetics
URL:https://upgx.eu/event/13th-troina-meeting-on-genetics-of-neurodevelopmental-disorders/
LOCATION:Troina Italy\, Troina\, Italy
CATEGORIES:Genomics
END:VEVENT
BEGIN:VEVENT
DTSTART;VALUE=DATE:20180326
DTEND;VALUE=DATE:20180329
DTSTAMP:20260425T165848
CREATED:20171113T113416Z
LAST-MODIFIED:20171113T113416Z
UID:1403-1522022400-1522281599@upgx.eu
SUMMARY:Genomics of Rare Disease
DESCRIPTION:Genomic Medicine
URL:https://upgx.eu/event/genomics-of-rare-disease-2/
LOCATION:Cambridge UK\, Cambridge\, United Kingdom
CATEGORIES:Genomics
END:VEVENT
BEGIN:VEVENT
DTSTART;VALUE=DATE:20180323
DTEND;VALUE=DATE:20180328
DTSTAMP:20260425T165848
CREATED:20180220T092706Z
LAST-MODIFIED:20180220T093348Z
UID:1556-1521763200-1522195199@upgx.eu
SUMMARY:Gene Control in Development and Disease
DESCRIPTION:Human Genetics
URL:https://upgx.eu/event/gene-control-in-development-and-disease/
LOCATION:British Columbia Canada\, British Columbia\, Canada
CATEGORIES:Genomics
END:VEVENT
BEGIN:VEVENT
DTSTART;VALUE=DATE:20180321
DTEND;VALUE=DATE:20180322
DTSTAMP:20260425T165848
CREATED:20171127T161829Z
LAST-MODIFIED:20171127T162453Z
UID:1430-1521590400-1521676799@upgx.eu
SUMMARY:The 5th Annual UK Pharmacogenetics & Stratified Medicine Network Open Meeting
DESCRIPTION:Human Genetics
URL:https://upgx.eu/event/the-5th-annual-uk-pharmacogenetics-stratified-medicine-network-open-meeting/
LOCATION:London UK\, London\, United Kingdom
CATEGORIES:Genomics
END:VEVENT
BEGIN:VEVENT
DTSTART;VALUE=DATE:20180315
DTEND;VALUE=DATE:20180317
DTSTAMP:20260425T165848
CREATED:20180117T161120Z
LAST-MODIFIED:20180117T161120Z
UID:1465-1521072000-1521244799@upgx.eu
SUMMARY:7th International Conference and Exhibition on Cell and Gene Therapy
DESCRIPTION:Gene Therapy
URL:https://upgx.eu/event/7th-international-conference-and-exhibition-on-cell-and-gene-therapy/
LOCATION:London UK\, London\, United Kingdom
CATEGORIES:Genomics
END:VEVENT
BEGIN:VEVENT
DTSTART;VALUE=DATE:20180301
DTEND;VALUE=DATE:20180303
DTSTAMP:20260425T165848
CREATED:20180220T092536Z
LAST-MODIFIED:20180220T092536Z
UID:1554-1519862400-1520035199@upgx.eu
SUMMARY:Future of Genomic Medicine 2018
DESCRIPTION:Genomic Medicine
URL:https://upgx.eu/event/future-of-genomic-medicine-2018/
LOCATION:La Jolla California United States\, La Jolla\, California\, CA\, United States
CATEGORIES:Genomics
END:VEVENT
BEGIN:VEVENT
DTSTART;VALUE=DATE:20180202
DTEND;VALUE=DATE:20180203
DTSTAMP:20260425T165848
CREATED:20180206T180253Z
LAST-MODIFIED:20180206T180716Z
UID:1517-1517529600-1517615999@upgx.eu
SUMMARY:20th Golden Helix Pharmacogenomics Day\, Al Ain UAE
DESCRIPTION:Genomic Medicine
URL:https://upgx.eu/event/20th-golden-helix-pharmacogenomics-day-al-ain-uae/
LOCATION:Al Ain United Arab Emirates\, Al Ain\, United Arab Emirates
CATEGORIES:Genomics
END:VEVENT
BEGIN:VEVENT
DTSTART;VALUE=DATE:20180130
DTEND;VALUE=DATE:20180201
DTSTAMP:20260425T165848
CREATED:20171127T161939Z
LAST-MODIFIED:20171127T161939Z
UID:1432-1517270400-1517443199@upgx.eu
SUMMARY:Festival of Genomics
DESCRIPTION:Genomic Medicine
URL:https://upgx.eu/event/festival-of-genomics/
LOCATION:London UK\, London\, United Kingdom
CATEGORIES:Genomics
END:VEVENT
BEGIN:VEVENT
DTSTART;VALUE=DATE:20171218
DTEND;VALUE=DATE:20171220
DTSTAMP:20260425T165848
CREATED:20171113T113253Z
LAST-MODIFIED:20171113T113836Z
UID:1400-1513555200-1513727999@upgx.eu
SUMMARY:19th International Conference on Human Genetics
DESCRIPTION:Human Genetics
URL:https://upgx.eu/event/19th-international-conference-on-human-genetics/
LOCATION:Bangkok Thailand\, Bangkok\, Thailand
CATEGORIES:Genomics
END:VEVENT
END:VCALENDAR