BEGIN:VCALENDAR
VERSION:2.0
PRODID:-//Ubiquitous Pharmacogenomics (U-PGx) - ECPv6.15.20//NONSGML v1.0//EN
CALSCALE:GREGORIAN
METHOD:PUBLISH
X-WR-CALNAME:Ubiquitous Pharmacogenomics (U-PGx)
X-ORIGINAL-URL:https://upgx.eu
X-WR-CALDESC:Events for Ubiquitous Pharmacogenomics (U-PGx)
REFRESH-INTERVAL;VALUE=DURATION:PT1H
X-Robots-Tag:noindex
X-PUBLISHED-TTL:PT1H
BEGIN:VTIMEZONE
TZID:UTC
BEGIN:STANDARD
TZOFFSETFROM:+0000
TZOFFSETTO:+0000
TZNAME:UTC
DTSTART:20170101T000000
END:STANDARD
END:VTIMEZONE
BEGIN:VEVENT
DTSTART;VALUE=DATE:20211004
DTEND;VALUE=DATE:20211007
DTSTAMP:20260425T111547
CREATED:20201207T083505Z
LAST-MODIFIED:20201207T124420Z
UID:2460-1633305600-1633564799@upgx.eu
SUMMARY:25th Human Genome Meeting\, Tel Aviv\, Israel
DESCRIPTION:Genome
URL:https://upgx.eu/event/25th-human-genome-meeting-tel-aviv-israel/
LOCATION:Tel Aviv\, Israel\, Tel Aviv\, Israel
CATEGORIES:Genomics
END:VEVENT
BEGIN:VEVENT
DTSTART;VALUE=DATE:20210611
DTEND;VALUE=DATE:20210612
DTSTAMP:20260425T111547
CREATED:20201207T083547Z
LAST-MODIFIED:20201207T124509Z
UID:2462-1623369600-1623455999@upgx.eu
SUMMARY:Exceptional cases of Genome Variation
DESCRIPTION:Genome
URL:https://upgx.eu/event/exceptional-cases-of-genome-variation/
LOCATION:Glasgow\, UK\, Glasgow\, United Kingdom
CATEGORIES:Genomics
END:VEVENT
BEGIN:VEVENT
DTSTART;VALUE=DATE:20210524
DTEND;VALUE=DATE:20210526
DTSTAMP:20260425T111547
CREATED:20201207T083759Z
LAST-MODIFIED:20201207T124703Z
UID:2470-1621814400-1621987199@upgx.eu
SUMMARY:3rd International Conference on Metabolomics\, Genomics and Proteomics
DESCRIPTION:Genomic Medicine
URL:https://upgx.eu/event/3rd-international-conference-on-metabolomics-genomics-and-proteomics/
LOCATION:Webinar
CATEGORIES:Genomics
END:VEVENT
BEGIN:VEVENT
DTSTART;VALUE=DATE:20210512
DTEND;VALUE=DATE:20210515
DTSTAMP:20260425T111547
CREATED:20201207T084715Z
LAST-MODIFIED:20201207T125007Z
UID:2490-1620777600-1621036799@upgx.eu
SUMMARY:Curating the Clinical Genome
DESCRIPTION:Genomic Medicine
URL:https://upgx.eu/event/curating-the-clinical-genome/
LOCATION:Virtual
CATEGORIES:Genomics
END:VEVENT
BEGIN:VEVENT
DTSTART;VALUE=DATE:20210428
DTEND;VALUE=DATE:20210501
DTSTAMP:20260425T111547
CREATED:20201207T084637Z
LAST-MODIFIED:20201207T124932Z
UID:2488-1619568000-1619827199@upgx.eu
SUMMARY:Personal Genomes
DESCRIPTION:Genomic Medicine
URL:https://upgx.eu/event/personal-genomes/
LOCATION:Virtual
CATEGORIES:Genomics
END:VEVENT
BEGIN:VEVENT
DTSTART;VALUE=DATE:20210414
DTEND;VALUE=DATE:20210417
DTSTAMP:20260425T111547
CREATED:20201207T084558Z
LAST-MODIFIED:20201207T124906Z
UID:2486-1618358400-1618617599@upgx.eu
SUMMARY:Genomics of Brain Disorders
DESCRIPTION:Genomic Medicine
URL:https://upgx.eu/event/genomics-of-brain-disorders-3/
LOCATION:Virtual
CATEGORIES:Genomics
END:VEVENT
BEGIN:VEVENT
DTSTART;VALUE=DATE:20210322
DTEND;VALUE=DATE:20210325
DTSTAMP:20260425T111547
CREATED:20201207T084508Z
LAST-MODIFIED:20201207T124829Z
UID:2484-1616371200-1616630399@upgx.eu
SUMMARY:Genomics of Rare Disease
DESCRIPTION:Genomic Medicine
URL:https://upgx.eu/event/genomics-of-rare-disease-3/
LOCATION:Virtual
CATEGORIES:Genomics
END:VEVENT
BEGIN:VEVENT
DTSTART;VALUE=DATE:20210221
DTEND;VALUE=DATE:20210223
DTSTAMP:20260425T111547
CREATED:20201207T083616Z
LAST-MODIFIED:20201207T124538Z
UID:2464-1613865600-1614038399@upgx.eu
SUMMARY:14th International Conference on Genomics and Molecular Biology
DESCRIPTION:Genomic Medicine
URL:https://upgx.eu/event/14th-international-conference-on-genomics-and-molecular-biology/
LOCATION:Webinar
CATEGORIES:Genomics
END:VEVENT
BEGIN:VEVENT
DTSTART;VALUE=DATE:20210210
DTEND;VALUE=DATE:20210213
DTSTAMP:20260425T111547
CREATED:20201207T084422Z
LAST-MODIFIED:20201207T124802Z
UID:2482-1612915200-1613174399@upgx.eu
SUMMARY:Immunogenomic of Disease: Accelerating to Patient Benefit
DESCRIPTION:Genomic Medicine
URL:https://upgx.eu/event/immunogenomic-of-disease-accelerating-to-patient-benefit/
LOCATION:Virtual
CATEGORIES:Genomics
END:VEVENT
BEGIN:VEVENT
DTSTART;VALUE=DATE:20210202
DTEND;VALUE=DATE:20210206
DTSTAMP:20260425T111547
CREATED:20201207T084347Z
LAST-MODIFIED:20201207T124730Z
UID:2480-1612224000-1612569599@upgx.eu
SUMMARY:Genomic practice for Genetic Councellors
DESCRIPTION:Genomic Medicine
URL:https://upgx.eu/event/genomic-practice-for-genetic-councellors/
LOCATION:Virtual
CATEGORIES:Genomics
END:VEVENT
BEGIN:VEVENT
DTSTART;VALUE=DATE:20201207
DTEND;VALUE=DATE:20201208
DTSTAMP:20260425T111547
CREATED:20201207T083726Z
LAST-MODIFIED:20201207T124639Z
UID:2468-1607299200-1607385599@upgx.eu
SUMMARY:14th International Conference on Proteomics\, Genomics and Bioinformatics
DESCRIPTION:Genomic Medicine
URL:https://upgx.eu/event/14th-international-conference-on-proteomics-genomics-and-bioinformatics/
LOCATION:Amsterdam\, Netherlands\, Amsterdam\, Netherlands
CATEGORIES:Genomics
END:VEVENT
BEGIN:VEVENT
DTSTART;VALUE=DATE:20200525
DTEND;VALUE=DATE:20200528
DTSTAMP:20260425T111547
CREATED:20191007T102752Z
LAST-MODIFIED:20191007T102752Z
UID:2401-1590364800-1590623999@upgx.eu
SUMMARY:15th International Symposium on Variants in the Genome: detection\, genome sequencing and interpretation
DESCRIPTION:Genomics
URL:https://upgx.eu/event/15th-international-symposium-on-variants-in-the-genome-detection-genome-sequencing-and-interpretation/
LOCATION:Piran Slovenia\, Piran\, Slovenia
CATEGORIES:Genomics
END:VEVENT
BEGIN:VEVENT
DTSTART;VALUE=DATE:20200405
DTEND;VALUE=DATE:20200409
DTSTAMP:20260425T111547
CREATED:20191007T102205Z
LAST-MODIFIED:20191007T102205Z
UID:2393-1586044800-1586390399@upgx.eu
SUMMARY:Human Genome Meeting 2020
DESCRIPTION:Genomics
URL:https://upgx.eu/event/human-genome-meeting-2020/
LOCATION:Perth Australia\, Perth\, Australia
CATEGORIES:Genomics
END:VEVENT
BEGIN:VEVENT
DTSTART;VALUE=DATE:20200329
DTEND;VALUE=DATE:20200402
DTSTAMP:20260425T111547
CREATED:20191007T101342Z
LAST-MODIFIED:20191007T101342Z
UID:2385-1585440000-1585785599@upgx.eu
SUMMARY:EMBO | EMBL Symposium: The Four-Dimensional Genome
DESCRIPTION:Genomics
URL:https://upgx.eu/event/embo-embl-symposium-the-four-dimensional-genome/
LOCATION:Heidelberg  Germany\, Heidelberg\, Germany
CATEGORIES:Genomics
END:VEVENT
BEGIN:VEVENT
DTSTART;VALUE=DATE:20200325
DTEND;VALUE=DATE:20200328
DTSTAMP:20260425T111547
CREATED:20191007T101717Z
LAST-MODIFIED:20191007T101717Z
UID:2387-1585094400-1585353599@upgx.eu
SUMMARY:Genomics of Rare Diseases
DESCRIPTION:Genomics
URL:https://upgx.eu/event/genomics-of-rare-diseases/
LOCATION:Wellcome Genome Campus\, Hinxton\, UK\, Hinxton\, United Kingdom
CATEGORIES:Genomics
END:VEVENT
BEGIN:VEVENT
DTSTART;VALUE=DATE:20200318
DTEND;VALUE=DATE:20200321
DTSTAMP:20260425T111547
CREATED:20191007T101823Z
LAST-MODIFIED:20191007T104227Z
UID:2389-1584489600-1584748799@upgx.eu
SUMMARY:Genomics of Brain Disorders
DESCRIPTION:Genomics
URL:https://upgx.eu/event/genomics-of-brain-disorders-2/
LOCATION:Wellcome Genome Campus\, Hinxton\, UK\, Hinxton\, United Kingdom
CATEGORIES:Genomics
END:VEVENT
BEGIN:VEVENT
DTSTART;VALUE=DATE:20191104
DTEND;VALUE=DATE:20191105
DTSTAMP:20260425T111547
CREATED:20191007T083425Z
LAST-MODIFIED:20191007T083425Z
UID:2364-1572825600-1572911999@upgx.eu
SUMMARY:Genomics England Research Conference
DESCRIPTION:Genomics
URL:https://upgx.eu/event/genomics-england-research-conference/
LOCATION:London UK\, London\, United Kingdom
CATEGORIES:Genomics
END:VEVENT
BEGIN:VEVENT
DTSTART;VALUE=DATE:20190623
DTEND;VALUE=DATE:20190627
DTSTAMP:20260425T111547
CREATED:20190307T105258Z
LAST-MODIFIED:20190307T105258Z
UID:2144-1561248000-1561593599@upgx.eu
SUMMARY:CG19 - 4th EACR Conference on Cancer Genomics
DESCRIPTION:Genome
URL:https://upgx.eu/event/cg19-4th-eacr-conference-on-cancer-genomics/
LOCATION:Cambridge UK\, Cambridge\, United Kingdom
CATEGORIES:Genomics
END:VEVENT
BEGIN:VEVENT
DTSTART;VALUE=DATE:20190531
DTEND;VALUE=DATE:20190602
DTSTAMP:20260425T111547
CREATED:20190307T105010Z
LAST-MODIFIED:20190307T105010Z
UID:2140-1559260800-1559433599@upgx.eu
SUMMARY:2nd AIRS International Conference on Genomics and Microbiomics
DESCRIPTION:Genome
URL:https://upgx.eu/event/2nd-airs-international-conference-on-genomics-and-microbiomics/
LOCATION:Barcelona Spain\, Barcelona\, Spain
CATEGORIES:Genomics
END:VEVENT
BEGIN:VEVENT
DTSTART;VALUE=DATE:20190514
DTEND;VALUE=DATE:20190516
DTSTAMP:20260425T111547
CREATED:20181206T101222Z
LAST-MODIFIED:20181206T101222Z
UID:1974-1557792000-1557964799@upgx.eu
SUMMARY:GEDUS 2019-3RD ANNUAL GENOME EDITING USA CONGRESS
DESCRIPTION:Genome
URL:https://upgx.eu/event/gedus-2019-3rd-annual-genome-editing-usa-congress/
LOCATION:Boston United States\, Boston\, United States
CATEGORIES:Genomics
END:VEVENT
BEGIN:VEVENT
DTSTART;VALUE=DATE:20190425
DTEND;VALUE=DATE:20190428
DTSTAMP:20260425T111547
CREATED:20181018T134450Z
LAST-MODIFIED:20181018T134450Z
UID:1930-1556150400-1556409599@upgx.eu
SUMMARY:BIT'S 10th Anniversary World DNA and Genome Day-2019
DESCRIPTION:Genome
URL:https://upgx.eu/event/bits-10th-anniversary-world-dna-and-genome-day-2019/
LOCATION:Nanjing China\, Nanjing\, China
CATEGORIES:Genomics
END:VEVENT
BEGIN:VEVENT
DTSTART;VALUE=DATE:20190424
DTEND;VALUE=DATE:20190428
DTSTAMP:20260425T111547
CREATED:20181206T101040Z
LAST-MODIFIED:20181206T101040Z
UID:1971-1556064000-1556409599@upgx.eu
SUMMARY:Human Genome Meeting 2019
DESCRIPTION:Genome
URL:https://upgx.eu/event/human-genome-meeting-2019/
LOCATION:Seoul South Korea\, Seoul\, Korea\, Democratic People's Republic of
CATEGORIES:Genomics
END:VEVENT
BEGIN:VEVENT
DTSTART;VALUE=DATE:20190331
DTEND;VALUE=DATE:20190404
DTSTAMP:20260425T111547
CREATED:20181018T135247Z
LAST-MODIFIED:20181018T135247Z
UID:1938-1553990400-1554335999@upgx.eu
SUMMARY:Reconstructing the Human Past - Using Ancient and Modern Genomics
DESCRIPTION:Genomic Medicine
URL:https://upgx.eu/event/reconstructing-the-human-past-using-ancient-and-modern-genomics/
LOCATION:Heidelberg  Germany\, Heidelberg\, Germany
CATEGORIES:Genomics
END:VEVENT
BEGIN:VEVENT
DTSTART;VALUE=DATE:20190225
DTEND;VALUE=DATE:20190301
DTSTAMP:20260425T111547
CREATED:20181018T134805Z
LAST-MODIFIED:20181018T134805Z
UID:1932-1551052800-1551398399@upgx.eu
SUMMARY:Spatial Genome Organization Conference
DESCRIPTION:Genome
URL:https://upgx.eu/event/spatial-genome-organization-conference/
LOCATION:Nassau Bahamas\, Nassau\, Bahamas
CATEGORIES:Genomics
END:VEVENT
BEGIN:VEVENT
DTSTART;VALUE=DATE:20190218
DTEND;VALUE=DATE:20190221
DTSTAMP:20260425T111547
CREATED:20180626T083702Z
LAST-MODIFIED:20180626T083702Z
UID:1695-1550448000-1550707199@upgx.eu
SUMMARY:Cancer Genomics & Personalized Medicine Summit-2019
DESCRIPTION:Personalized Medicine
URL:https://upgx.eu/event/cancer-genomics-personalized-medicine-summit-2019/
LOCATION:Dubai United Arab Emirates\, Dubai\, United Arab Emirates
CATEGORIES:Genomics
END:VEVENT
BEGIN:VEVENT
DTSTART;VALUE=DATE:20190113
DTEND;VALUE=DATE:20190118
DTSTAMP:20260425T111547
CREATED:20180905T123918Z
LAST-MODIFIED:20180905T123918Z
UID:1851-1547337600-1547769599@upgx.eu
SUMMARY:DNA Replication and Genome Instability - From Mechanism to Disease
DESCRIPTION:Genomic Medicine
URL:https://upgx.eu/event/dna-replication-and-genome-instability-from-mechanism-to-disease/
LOCATION:Snowbird Utah United States\, SnowBird\, UT\, United States
CATEGORIES:Genomics
END:VEVENT
BEGIN:VEVENT
DTSTART;VALUE=DATE:20181205
DTEND;VALUE=DATE:20181207
DTSTAMP:20260425T111547
CREATED:20180626T084225Z
LAST-MODIFIED:20180626T084225Z
UID:1703-1543968000-1544140799@upgx.eu
SUMMARY:Genomic Medicine 2018
DESCRIPTION:Genomics
URL:https://upgx.eu/event/genomic-medicine-2018/
LOCATION:Cambridge UK\, Cambridge\, United Kingdom
CATEGORIES:Genomics
END:VEVENT
BEGIN:VEVENT
DTSTART;VALUE=DATE:20181125
DTEND;VALUE=DATE:20181130
DTSTAMP:20260425T111547
CREATED:20180713T074434Z
LAST-MODIFIED:20180713T074434Z
UID:1735-1543104000-1543535999@upgx.eu
SUMMARY:Leveraging Genomic Diversity to Promote Animal and Human Health
DESCRIPTION:Genomic Medicine
URL:https://upgx.eu/event/leveraging-genomic-diversity-to-promote-animal-and-human-health-2/
LOCATION:Kampala Uganda\, Kampala\, Uganda
CATEGORIES:Genomics
END:VEVENT
BEGIN:VEVENT
DTSTART;VALUE=DATE:20181111
DTEND;VALUE=DATE:20181115
DTSTAMP:20260425T111547
CREATED:20180713T074134Z
LAST-MODIFIED:20180713T074134Z
UID:1733-1541894400-1542239999@upgx.eu
SUMMARY:From Rare to Care - Discovery\, Modeling and Translation of Rare Diseases
DESCRIPTION:Genomic Medicine
URL:https://upgx.eu/event/from-rare-to-care-discovery-modeling-and-translation-of-rare-diseases/
LOCATION:Vienna Austria\, Vienna\, Austria
CATEGORIES:Genomics
END:VEVENT
BEGIN:VEVENT
DTSTART;VALUE=DATE:20181102
DTEND;VALUE=DATE:20181104
DTSTAMP:20260425T111547
CREATED:20180117T162125Z
LAST-MODIFIED:20180117T162125Z
UID:1477-1541116800-1541289599@upgx.eu
SUMMARY:International Congress & Expo on Genomics and Bioinformatics
DESCRIPTION:Genomic Medicine
URL:https://upgx.eu/event/international-congress-expo-on-genomics-and-bioinformatics/
LOCATION:Columbus United States\, Columbus\, United States
CATEGORIES:Genomics
END:VEVENT
END:VCALENDAR