BEGIN:VCALENDAR
VERSION:2.0
PRODID:-//Ubiquitous Pharmacogenomics (U-PGx) - ECPv6.15.20//NONSGML v1.0//EN
CALSCALE:GREGORIAN
METHOD:PUBLISH
X-WR-CALNAME:Ubiquitous Pharmacogenomics (U-PGx)
X-ORIGINAL-URL:https://upgx.eu
X-WR-CALDESC:Events for Ubiquitous Pharmacogenomics (U-PGx)
REFRESH-INTERVAL;VALUE=DURATION:PT1H
X-Robots-Tag:noindex
X-PUBLISHED-TTL:PT1H
BEGIN:VTIMEZONE
TZID:UTC
BEGIN:STANDARD
TZOFFSETFROM:+0000
TZOFFSETTO:+0000
TZNAME:UTC
DTSTART:20170101T000000
END:STANDARD
END:VTIMEZONE
BEGIN:VEVENT
DTSTART;VALUE=DATE:20180923
DTEND;VALUE=DATE:20180927
DTSTAMP:20260425T194837
CREATED:20180713T073054Z
LAST-MODIFIED:20180713T073054Z
UID:1726-1537660800-1538006399@upgx.eu
SUMMARY:International Congress on Personalized Health Care
DESCRIPTION:Personalized Medicine
URL:https://upgx.eu/event/international-congress-on-personalized-health-care/
LOCATION:Montreal Canada\, Montreal\, Canada
CATEGORIES:Genomic Medicine
END:VEVENT
END:VCALENDAR