BEGIN:VCALENDAR
VERSION:2.0
PRODID:-//Ubiquitous Pharmacogenomics (U-PGx) - ECPv6.15.20//NONSGML v1.0//EN
CALSCALE:GREGORIAN
METHOD:PUBLISH
X-ORIGINAL-URL:https://upgx.eu
X-WR-CALDESC:Events for Ubiquitous Pharmacogenomics (U-PGx)
REFRESH-INTERVAL;VALUE=DURATION:PT1H
X-Robots-Tag:noindex
X-PUBLISHED-TTL:PT1H
BEGIN:VTIMEZONE
TZID:UTC
BEGIN:STANDARD
TZOFFSETFROM:+0000
TZOFFSETTO:+0000
TZNAME:UTC
DTSTART:20170101T000000
END:STANDARD
END:VTIMEZONE
BEGIN:VEVENT
DTSTART;VALUE=DATE:20210612
DTEND;VALUE=DATE:20210616
DTSTAMP:20260425T110345
CREATED:20201207T084748Z
LAST-MODIFIED:20201207T125032Z
UID:2492-1623456000-1623801599@upgx.eu
SUMMARY:54th European Human Genetics Conference
DESCRIPTION:Genetics
URL:https://upgx.eu/event/54th-european-human-genetics-conference/
LOCATION:Virtual
CATEGORIES:Genetics
END:VEVENT
BEGIN:VEVENT
DTSTART;VALUE=DATE:20210518
DTEND;VALUE=DATE:20210520
DTSTAMP:20260425T110345
CREATED:20201207T083703Z
LAST-MODIFIED:20201207T124609Z
UID:2466-1621296000-1621468799@upgx.eu
SUMMARY:International Conference on Genetic Disorders and Gene Therapy
DESCRIPTION:Genetics
URL:https://upgx.eu/event/international-conference-on-genetic-disorders-and-gene-therapy/
LOCATION:Webinar
CATEGORIES:Genetics
END:VEVENT
BEGIN:VEVENT
DTSTART;VALUE=DATE:20200422
DTEND;VALUE=DATE:20200427
DTSTAMP:20260425T110345
CREATED:20191007T102435Z
LAST-MODIFIED:20191007T102435Z
UID:2396-1587513600-1587945599@upgx.eu
SUMMARY:The Allied Genetics Conference 2020
DESCRIPTION:Genetics
URL:https://upgx.eu/event/the-allied-genetics-conference-2020/
LOCATION:DC Metro Region\, USA\, Gaylord National Resort & Convention Center\, Metro Washington\, DC\, United States
CATEGORIES:Genetics
END:VEVENT
BEGIN:VEVENT
DTSTART;VALUE=DATE:20190706
DTEND;VALUE=DATE:20190708
DTSTAMP:20260425T110345
CREATED:20190307T105418Z
LAST-MODIFIED:20190307T105418Z
UID:2146-1562371200-1562543999@upgx.eu
SUMMARY:Human Genetics and Genomics
DESCRIPTION:Genetics
URL:https://upgx.eu/event/human-genetics-and-genomics/
LOCATION:Waterville Valey NH United States\, Waterville Valey\, NH\, United States
CATEGORIES:Genetics
END:VEVENT
BEGIN:VEVENT
DTSTART;VALUE=DATE:20190615
DTEND;VALUE=DATE:20190619
DTSTAMP:20260425T110345
CREATED:20190307T105142Z
LAST-MODIFIED:20190307T105142Z
UID:2142-1560556800-1560902399@upgx.eu
SUMMARY:European Human Genetics Conference 2019
DESCRIPTION:Genetics
URL:https://upgx.eu/event/european-human-genetics-conference-2019/
LOCATION:Gothenburg Sweden\, Gothenburg\, Sweden
CATEGORIES:Genetics
END:VEVENT
BEGIN:VEVENT
DTSTART;VALUE=DATE:20190407
DTEND;VALUE=DATE:20190413
DTSTAMP:20260425T110345
CREATED:20190307T104852Z
LAST-MODIFIED:20190307T104852Z
UID:2138-1554595200-1555113599@upgx.eu
SUMMARY:Cancer Genetics and Epigenetics
DESCRIPTION:Genetics
URL:https://upgx.eu/event/cancer-genetics-and-epigenetics/
LOCATION:Lucca Italy\, Lucca\, Italy
CATEGORIES:Genetics
END:VEVENT
BEGIN:VEVENT
DTSTART;VALUE=DATE:20190407
DTEND;VALUE=DATE:20190413
DTSTAMP:20260425T110345
CREATED:20180905T124031Z
LAST-MODIFIED:20180905T125634Z
UID:1854-1554595200-1555113599@upgx.eu
SUMMARY:Gordon Research Conference — Cancer Genetics and Epigenetics
DESCRIPTION:Genetics
URL:https://upgx.eu/event/gordon-research-conference-cancer-genetics-and-epigenetics/
LOCATION:Lucca Italy\, Lucca\, Italy
CATEGORIES:Genetics
END:VEVENT
BEGIN:VEVENT
DTSTART;VALUE=DATE:20190402
DTEND;VALUE=DATE:20190407
DTSTAMP:20260425T110345
CREATED:20181206T100656Z
LAST-MODIFIED:20181206T100656Z
UID:1965-1554163200-1554595199@upgx.eu
SUMMARY:ACMG&G Annual Clinical Genetics Meeting 2019
DESCRIPTION:Genetics
URL:https://upgx.eu/event/acmgg-annual-clinical-genetics-meeting-2019/
LOCATION:Seattle United States\, Seattle\, United States
CATEGORIES:Genetics
END:VEVENT
BEGIN:VEVENT
DTSTART;VALUE=DATE:20190401
DTEND;VALUE=DATE:20190404
DTSTAMP:20260425T110345
CREATED:20181206T100837Z
LAST-MODIFIED:20181206T100837Z
UID:1968-1554076800-1554335999@upgx.eu
SUMMARY:Chromatin and Epigenetics: Inheritance and Design
DESCRIPTION:Genetics
URL:https://upgx.eu/event/chromatin-and-epigenetics-inheritance-and-design/
LOCATION:Munich Germany\, Munich\, Germany
CATEGORIES:Genetics
END:VEVENT
BEGIN:VEVENT
DTSTART;VALUE=DATE:20190317
DTEND;VALUE=DATE:20190322
DTSTAMP:20260425T110345
CREATED:20190307T104717Z
LAST-MODIFIED:20190307T104717Z
UID:2135-1552780800-1553212799@upgx.eu
SUMMARY:Epigenetics and Human Disease
DESCRIPTION:Genetics
URL:https://upgx.eu/event/epigenetics-and-human-disease/
LOCATION:Banff Alberta Canada\, Banff\, Alberta\, Canada
CATEGORIES:Genetics
END:VEVENT
BEGIN:VEVENT
DTSTART;VALUE=DATE:20190210
DTEND;VALUE=DATE:20190216
DTSTAMP:20260425T110345
CREATED:20180626T084350Z
LAST-MODIFIED:20180626T084401Z
UID:1705-1549756800-1550275199@upgx.eu
SUMMARY:Gordon Research Conference - Quantitative Genetics and Genomics
DESCRIPTION:Genetics
URL:https://upgx.eu/event/gordon-recearch-conference-quantitative-genetics-and-genomics/
LOCATION:Lucca Italy\, Lucca\, Italy
CATEGORIES:Genetics
END:VEVENT
BEGIN:VEVENT
DTSTART;VALUE=DATE:20181108
DTEND;VALUE=DATE:20181110
DTSTAMP:20260425T110345
CREATED:20180713T073856Z
LAST-MODIFIED:20180713T073856Z
UID:1731-1541635200-1541807999@upgx.eu
SUMMARY:4th Annual Genome Editing Congress 2018
DESCRIPTION:Genetics
URL:https://upgx.eu/event/4th-annual-genome-editing-congress-2018/
LOCATION:London UK\, London\, United Kingdom
CATEGORIES:Genetics
END:VEVENT
BEGIN:VEVENT
DTSTART;VALUE=DATE:20181014
DTEND;VALUE=DATE:20181017
DTSTAMP:20260425T110345
CREATED:20180905T124926Z
LAST-MODIFIED:20180905T124926Z
UID:1869-1539475200-1539734399@upgx.eu
SUMMARY:International Genetic Epidemiology Society 27th Annual Meeting 2018 (IGES 2018)
DESCRIPTION:Genetics
URL:https://upgx.eu/event/international-genetic-epidemiology-society-27th-annual-meeting-2018-iges-2018/
LOCATION:San Diego United States\, San Diego\, United States
CATEGORIES:Genetics
END:VEVENT
BEGIN:VEVENT
DTSTART;VALUE=DATE:20181011
DTEND;VALUE=DATE:20181016
DTSTAMP:20260425T110345
CREATED:20180905T124806Z
LAST-MODIFIED:20180905T124806Z
UID:1866-1539216000-1539647999@upgx.eu
SUMMARY:26th World Congress of Psychiatric Genetics 2018
DESCRIPTION:Genetics
URL:https://upgx.eu/event/26th-world-congress-of-psychiatric-genetics-2018/
LOCATION:Glasgow United Kingdom\, Glasgow\, Scotland\, United Kingdom
CATEGORIES:Genetics
END:VEVENT
BEGIN:VEVENT
DTSTART;VALUE=DATE:20181010
DTEND;VALUE=DATE:20181014
DTSTAMP:20260425T110345
CREATED:20180905T124629Z
LAST-MODIFIED:20180905T124629Z
UID:1863-1539129600-1539475199@upgx.eu
SUMMARY:Japan Society of Human Genetics 63rd Annual Meeting 2018
DESCRIPTION:Human Genetics
URL:https://upgx.eu/event/japan-society-of-human-genetics-63rd-annual-meeting-2018/
LOCATION:Yokohama Japan\, Yokohama\, Japan
CATEGORIES:Genetics
END:VEVENT
BEGIN:VEVENT
DTSTART;VALUE=DATE:20181002
DTEND;VALUE=DATE:20181003
DTSTAMP:20260425T110345
CREATED:20180905T124503Z
LAST-MODIFIED:20180905T125202Z
UID:1861-1538438400-1538524799@upgx.eu
SUMMARY:British Society for Genetic Medicine Annual Conference 2018
DESCRIPTION:Genetic Medicine
URL:https://upgx.eu/event/british-society-for-genetic-medicine-annual-conference-2018/
LOCATION:London UK\, London\, United Kingdom
CATEGORIES:Genetics
END:VEVENT
BEGIN:VEVENT
DTSTART;VALUE=DATE:20181001
DTEND;VALUE=DATE:20181003
DTSTAMP:20260425T110345
CREATED:20180905T124402Z
LAST-MODIFIED:20180905T124402Z
UID:1858-1538352000-1538524799@upgx.eu
SUMMARY:Duch Society for Human Genetics Autumn Meeting 2018
DESCRIPTION:Human Genetics
URL:https://upgx.eu/event/duch-society-for-human-genetics-autumn-meeting-2018/
LOCATION:Papendal Netherlands\, Papendal\, Netherlands
CATEGORIES:Genetics
END:VEVENT
BEGIN:VEVENT
DTSTART;VALUE=DATE:20180921
DTEND;VALUE=DATE:20180922
DTSTAMP:20260425T110345
CREATED:20180626T084558Z
LAST-MODIFIED:20180626T084558Z
UID:1708-1537488000-1537574399@upgx.eu
SUMMARY:5th U-PGx Personalised Medicine\, Liverpool\, UK
DESCRIPTION:Genomics
URL:https://upgx.eu/event/5th-u-pgx-personalised-medicine-liverpool-uk/
LOCATION:Liverpool UK\, Liverpool\, United Kingdom
CATEGORIES:Genetics
END:VEVENT
BEGIN:VEVENT
DTSTART;VALUE=DATE:20180503
DTEND;VALUE=DATE:20180507
DTSTAMP:20260425T110345
CREATED:20180122T103235Z
LAST-MODIFIED:20180122T103235Z
UID:1498-1525305600-1525651199@upgx.eu
SUMMARY:17th International Conference on Preimplantation Genetics
DESCRIPTION:Preimplantation Genetics
URL:https://upgx.eu/event/17th-international-conference-on-preimplantation-genetics/
LOCATION:Bangkok Thailand\, Bangkok\, Thailand
CATEGORIES:Genetics
END:VEVENT
BEGIN:VEVENT
DTSTART;VALUE=DATE:20180429
DTEND;VALUE=DATE:20180503
DTSTAMP:20260425T110345
CREATED:20180122T103118Z
LAST-MODIFIED:20180122T103118Z
UID:1496-1524960000-1525305599@upgx.eu
SUMMARY:Preimplantation Genetic Diagnosis Intern. Society Congress
DESCRIPTION:Genetic Diagnosis
URL:https://upgx.eu/event/preimplantation-genetic-diagnosis-intern-society-congress/
LOCATION:Singapore Singapore\, Singapore\, Singapore
CATEGORIES:Genetics
END:VEVENT
BEGIN:VEVENT
DTSTART;VALUE=DATE:20180418
DTEND;VALUE=DATE:20180421
DTSTAMP:20260425T110345
CREATED:20180326T144117Z
LAST-MODIFIED:20180326T144117Z
UID:1615-1524009600-1524268799@upgx.eu
SUMMARY:European Mathematical Genetics Meeting 2018
DESCRIPTION:Genetics
URL:https://upgx.eu/event/european-mathematical-genetics-meeting-2018/
LOCATION:Cagliari Italy\, Cagliary\, Italy
CATEGORIES:Genetics
END:VEVENT
END:VCALENDAR