BEGIN:VCALENDAR
VERSION:2.0
PRODID:-//Ubiquitous Pharmacogenomics (U-PGx) - ECPv6.15.20//NONSGML v1.0//EN
CALSCALE:GREGORIAN
METHOD:PUBLISH
X-ORIGINAL-URL:https://upgx.eu
X-WR-CALDESC:Events for Ubiquitous Pharmacogenomics (U-PGx)
REFRESH-INTERVAL;VALUE=DURATION:PT1H
X-Robots-Tag:noindex
X-PUBLISHED-TTL:PT1H
BEGIN:VTIMEZONE
TZID:UTC
BEGIN:STANDARD
TZOFFSETFROM:+0000
TZOFFSETTO:+0000
TZNAME:UTC
DTSTART:20150101T000000
END:STANDARD
END:VTIMEZONE
BEGIN:VEVENT
DTSTART;VALUE=DATE:20170612
DTEND;VALUE=DATE:20170614
DTSTAMP:20260423T155002
CREATED:20170526T095940Z
LAST-MODIFIED:20170526T100507Z
UID:1264-1497225600-1497398399@upgx.eu
SUMMARY:Translational Bioinformatics
DESCRIPTION:Bioinformatics and Computational Biology
URL:https://upgx.eu/event/translational-bioinformatics/
LOCATION:Hinxton Cambridge UK\, Hinxton\, Cambridge\, United Kingdom
CATEGORIES:Bioinformatics
END:VEVENT
BEGIN:VEVENT
DTSTART;TZID=UTC:20170312T000000
DTEND;TZID=UTC:20170317T000000
DTSTAMP:20260423T155002
CREATED:20160918T145828Z
LAST-MODIFIED:20160918T150659Z
UID:733-1489276800-1489708800@upgx.eu
SUMMARY:EMBL Course: Analysis and Integration of Transcriptome and Proteome Data
DESCRIPTION:Transcriptomics-Proteomics analysis
URL:https://upgx.eu/event/embl-course-analysis-and-integration-of-transcriptome-and-proteome-data/
LOCATION:Heidelberg  Germany\, Heidelberg\, Germany
CATEGORIES:Bioinformatics
END:VEVENT
BEGIN:VEVENT
DTSTART;VALUE=DATE:20170106
DTEND;VALUE=DATE:20170109
DTSTAMP:20260423T155002
CREATED:20161106T195603Z
LAST-MODIFIED:20161106T201545Z
UID:835-1483660800-1483919999@upgx.eu
SUMMARY:5th International Conference on Bioinformatics and Computational Biology
DESCRIPTION:Bioinformatics and Computational Biology
URL:https://upgx.eu/event/5th-international-conference-on-bioinformatics-and-computational-biology/
LOCATION:Hong Kong China\, Hong Kong\, China
CATEGORIES:Bioinformatics
END:VEVENT
BEGIN:VEVENT
DTSTART;VALUE=DATE:20161215
DTEND;VALUE=DATE:20161219
DTSTAMP:20260423T155002
CREATED:20160623T092418Z
LAST-MODIFIED:20160623T093901Z
UID:586-1481760000-1482105599@upgx.eu
SUMMARY:BIBM 2016 : Bioinformatics and Biomedicine
DESCRIPTION:Bioinformatics and Biomedicine
URL:https://upgx.eu/event/bibm-2016-bioinformatics-and-biomedicine/
LOCATION:Shenzhen China\, Shenzhen\, China
CATEGORIES:Bioinformatics
END:VEVENT
BEGIN:VEVENT
DTSTART;VALUE=DATE:20161208
DTEND;VALUE=DATE:20161211
DTSTAMP:20260423T155002
CREATED:20160623T092417Z
LAST-MODIFIED:20160623T093618Z
UID:583-1481155200-1481414399@upgx.eu
SUMMARY:14th Annual Rocky Mountain Bioinformatics Conference
DESCRIPTION:Bioinformatics
URL:https://upgx.eu/event/14th-annual-rocky-mountain-bioinformatics-conference/
LOCATION:Westin Hotel Snowmass\, Aspen/Snowmass\, United States
CATEGORIES:Bioinformatics
END:VEVENT
BEGIN:VEVENT
DTSTART;VALUE=DATE:20161207
DTEND;VALUE=DATE:20161213
DTSTAMP:20260423T155002
CREATED:20160623T092417Z
LAST-MODIFIED:20160623T093500Z
UID:582-1481068800-1481587199@upgx.eu
SUMMARY:5th International Conference on Computer Engineering and Bioinformatics
DESCRIPTION:Computer Engineering on Bioinformatics
URL:https://upgx.eu/event/5th-international-conference-on-computer-engineering-and-bioinformatics/
LOCATION:Absolute Hotel Limerick\, Sir Harrys Mall\, Limerick City\, Ireland
CATEGORIES:Bioinformatics
END:VEVENT
BEGIN:VEVENT
DTSTART;VALUE=DATE:20161204
DTEND;VALUE=DATE:20161207
DTSTAMP:20260423T155002
CREATED:20160623T092417Z
LAST-MODIFIED:20160623T093232Z
UID:580-1480809600-1481068799@upgx.eu
SUMMARY:Target Validation Using Genomics and Informatics
DESCRIPTION:Genomics & Bionformatics
URL:https://upgx.eu/event/target-validation-using-genomics-and-informatics/
LOCATION:EMBL\, Heidelberg\, Germany
CATEGORIES:Bioinformatics
END:VEVENT
BEGIN:VEVENT
DTSTART;VALUE=DATE:20161201
DTEND;VALUE=DATE:20161203
DTSTAMP:20260423T155002
CREATED:20160623T092127Z
LAST-MODIFIED:20160623T092645Z
UID:578-1480550400-1480723199@upgx.eu
SUMMARY:International Conference on Glycomics
DESCRIPTION:NGS & Data Analysis Technologies
URL:https://upgx.eu/event/international-conference-on-glycomics/
LOCATION:Atlanta United States\, Atlanta\, United States
CATEGORIES:Bioinformatics
END:VEVENT
BEGIN:VEVENT
DTSTART;TZID=UTC:20161114T000000
DTEND;TZID=UTC:20161115T000000
DTSTAMP:20260423T155002
CREATED:20160516T153825Z
LAST-MODIFIED:20160516T153825Z
UID:391-1479081600-1479168000@upgx.eu
SUMMARY:United Arabic EmiratesU Symposium on Biological Sciences: "Genomics & Bioinformatics"
DESCRIPTION:Genomics & Bioinformatics
URL:https://upgx.eu/event/united-arabic-emiratesu-symposium-on-biological-sciences-genomics-bioinformatics/
CATEGORIES:Bioinformatics
END:VEVENT
BEGIN:VEVENT
DTSTART;TZID=UTC:20160613T000000
DTEND;TZID=UTC:20160624T000000
DTSTAMP:20260423T155002
CREATED:20160516T151754Z
LAST-MODIFIED:20160516T151754Z
UID:359-1465776000-1466726400@upgx.eu
SUMMARY:Summer School for Computational Genomics
DESCRIPTION:Computational genomics
URL:https://upgx.eu/event/summer-school-for-computational-genomics-3/
LOCATION:New York United States\, New York\, United States
CATEGORIES:Bioinformatics
END:VEVENT
END:VCALENDAR